BEGIN:VCALENDAR
VERSION:2.0
PRODID:-//ChamberMaster//Event Calendar 2.0//EN
METHOD:PUBLISH
X-PUBLISHED-TTL:P3D
REFRESH-INTERVAL:P3D
CALSCALE:GREGORIAN
BEGIN:VEVENT
DTSTART:20251214T153000Z
DTEND:20251214T193000Z
X-MICROSOFT-CDO-ALLDAYEVENT:FALSE
SUMMARY:Sunday Brunch with Santa at Saybrook Point Resort & Marina
DESCRIPTION:Brunch with Santa at Fresh Salt\n\nCelebrate the season with a festive family outing at Saybrook Point! Join us for Brunch with Santa\, where kids can experience the magic of the holidays while enjoying delicious food and holiday cheer.\n\n\n\nSnap a photo with Santa\, savor seasonal favorites\, and make memories that sparkle.
X-ALT-DESC;FMTTYPE=text/html:<span style="font-size:18px\;"><strong>Brunch with Santa at Fresh Salt</strong><br />\nCelebrate the season with a festive family outing at Saybrook Point! Join us for Brunch with Santa\, where kids can experience the magic of the holidays while enjoying delicious food and holiday cheer.<br />\n<br />\nSnap a photo with Santa\, savor seasonal favorites\, and make memories that sparkle.</span><br />\n<br />\n&nbsp\;
LOCATION:Saybrook Point Resort and Marina Fresh Salt Restaurant 2 Bridge Street Old Saybrook\, CT 06475
UID:e.1932.33552
SEQUENCE:3
DTSTAMP:20260424T192243Z
URL:https://business.middlesexchamber.com/events/details/sunday-brunch-with-santa-at-saybrook-point-resort-marina-33552
END:VEVENT

END:VCALENDAR
