BEGIN:VCALENDAR
VERSION:2.0
PRODID:-//ChamberMaster//Event Calendar 2.0//EN
METHOD:PUBLISH
X-PUBLISHED-TTL:P3D
REFRESH-INTERVAL:P3D
CALSCALE:GREGORIAN
BEGIN:VEVENT
DTSTART:20171112T010000Z
DTEND:20171112T030000Z
X-MICROSOFT-CDO-ALLDAYEVENT:FALSE
SUMMARY:Sue Lopes Jazz Group
DESCRIPTION:The Sue Lopes quartet performs throughout New England with unique interpretations of the Great American Songbook with sultry renditions to captivate an audience.\n\nSue Lopes on Vocals\n\nJeremy Osterling on Sax\n\nJames Daggs on Bass\n\nDennis Marolda on Drums\n\nJosh Peters on Piano
X-ALT-DESC;FMTTYPE=text/html:<p>The Sue Lopes quartet performs throughout New England with unique interpretations of the Great American Songbook with sultry renditions to captivate an audience.</p>\n\n<p>Sue Lopes on Vocals<br />\nJeremy Osterling on Sax<br />\nJames Daggs on Bass<br />\nDennis Marolda on Drums<br />\nJosh Peters on Piano</p>\n
LOCATION:The Buttonwood Tree 605 Main Street Middletown
UID:e.1932.4732
SEQUENCE:3
DTSTAMP:20260425T134136Z
URL:https://business.middlesexchamber.com/events/details/sue-lopes-jazz-group-4732
END:VEVENT

END:VCALENDAR
