BEGIN:VCALENDAR
VERSION:2.0
PRODID:-//ChamberMaster//Event Calendar 2.0//EN
METHOD:PUBLISH
X-PUBLISHED-TTL:P3D
REFRESH-INTERVAL:P3D
CALSCALE:GREGORIAN
BEGIN:VEVENT
DTSTART:20240716T190000Z
DTEND:20240716T200000Z
X-MICROSOFT-CDO-ALLDAYEVENT:FALSE
SUMMARY:Strategic Events Committee
DESCRIPTION:The Strategic Events Committee was created in 2022 with the goal of evaluating chamber activities and events. The committee\, under the leadership of chairwoman Megan Bush\, is busy planning for various mid to large scale events to diversify our current programming.\n\n\n\nThese events would not only raise funds to benefit various chamber programs\, but also to encourage member connections through fun and interactive events. While our chamber hosts over 5 large-scale events currently\, we are always looking to branch out to new event options\, styles\, and previously untapped attendees.
X-ALT-DESC;FMTTYPE=text/html:The Strategic Events Committee was created in 2022 with the goal of evaluating chamber activities and events. The committee\, under the leadership of chairwoman Megan Bush\, is busy planning for various mid to large scale events to diversify our current programming.<br />\n<br />\nThese events would not only raise funds to benefit various chamber programs\, but also to encourage member connections through fun and interactive events. While our chamber hosts over 5 large-scale events currently\, we are always looking to branch out to new event options\, styles\, and previously untapped attendees.
LOCATION:Middlesex Chamber 393 Main Street Middletown\, CT or join via Zoom
UID:e.1932.29086
SEQUENCE:3
DTSTAMP:20260419T202743Z
URL:https://business.middlesexchamber.com/events/details/strategic-events-committee-07-16-2024-29086
END:VEVENT

END:VCALENDAR
