BEGIN:VCALENDAR
VERSION:2.0
PRODID:-//ChamberMaster//Event Calendar 2.0//EN
METHOD:PUBLISH
X-PUBLISHED-TTL:P3D
REFRESH-INTERVAL:P3D
CALSCALE:GREGORIAN
BEGIN:VEVENT
DTSTART:20220226T150000Z
DTEND:20220226T190000Z
X-MICROSOFT-CDO-ALLDAYEVENT:FALSE
SUMMARY:Steward Outdoor School's Open House
DESCRIPTION:Steward Outdoor School\, a program of Incarnation Center\, is holding an Open House on Saturday\, February 26th from 10:00-2:00.\n\n\n\nSteward Outdoor School serves students grades K-8.\n\n\n\n \n\nThis is a free event.\n\n \n\nTo register call 860-767-0848 x117 or email: info@stewardoutdoorschool.org.
X-ALT-DESC;FMTTYPE=text/html:Steward Outdoor School\, a program of Incarnation Center\, is holding an Open House on Saturday\, February 26th from 10:00-2:00.<br />\n<br />\n<span style="color:#000000\;">Steward Outdoor School serves students grades K-8.</span><br />\n<br />\n&nbsp\;<br />\nThis is a free event.<br />\n&nbsp\;<br />\nTo register call 860-767-0848 x117 or email: <a href="mailto:info@stewardoutdoorschool.org">info@stewardoutdoorschool.org</a>.
LOCATION:Steward Outdoor School 253 Bushy Hill Road Deep River\, CT
UID:e.1932.23569
SEQUENCE:3
DTSTAMP:20260423T105153Z
URL:https://business.middlesexchamber.com/events/details/steward-outdoor-school-s-open-house-23569
END:VEVENT

END:VCALENDAR
