BEGIN:VCALENDAR
VERSION:2.0
PRODID:-//ChamberMaster//Event Calendar 2.0//EN
METHOD:PUBLISH
X-PUBLISHED-TTL:P3D
REFRESH-INTERVAL:P3D
CALSCALE:GREGORIAN
BEGIN:VEVENT
DTSTART:20221106T183000Z
DTEND:20221106T213000Z
X-MICROSOFT-CDO-ALLDAYEVENT:FALSE
SUMMARY:Sponsor a Stud
DESCRIPTION:Make a lasting impact on a future Habitat homeowner!\n\n\nSponsor a 2x4 ($20) that will be used to frame the walls in the next Middlesex Habitat for Humanity House in East Hampton.\n\n\n\nSunday\, November 6th | 1:30 - 4:30 pm\n\nWestbrook Outlets | Unit A120\n\n\n\nJoin us at this drop-in event as we decorate the boards with messages of hope and inspiration that will stay with the homeowner forever.\n\n\n\nA fun activity for everyone!
X-ALT-DESC;FMTTYPE=text/html:Make a lasting impact on a future Habitat homeowner!\n<div><br />\nSponsor a 2x4 ($20) that will be used to frame the walls in the next Middlesex Habitat for Humanity House in East Hampton.</div>\n\n<div><br />\nSunday\, November 6th | 1:30 - 4:30 pm<br />\nWestbrook Outlets | Unit A120</div>\n\n<div><br />\nJoin us at this drop-in event as we decorate the boards with messages of hope and inspiration that will stay with the homeowner forever.</div>\n\n<div><br />\nA fun activity for everyone!&nbsp\;</div>\n
LOCATION:Westbrook Outlets | Unit A120 314 Flat Rock Place Westbrook\, CT
UID:e.1932.24019
SEQUENCE:3
DTSTAMP:20260420T220013Z
URL:https://business.middlesexchamber.com/events/details/sponsor-a-stud-24019
END:VEVENT

END:VCALENDAR
