BEGIN:VCALENDAR
VERSION:2.0
PRODID:-//ChamberMaster//Event Calendar 2.0//EN
METHOD:PUBLISH
X-PUBLISHED-TTL:P3D
REFRESH-INTERVAL:P3D
CALSCALE:GREGORIAN
BEGIN:VEVENT
DTSTART:20171017T120000Z
DTEND:20171017T130000Z
X-MICROSOFT-CDO-ALLDAYEVENT:FALSE
SUMMARY:South Middletown Division
DESCRIPTION:BETH WILLIAMS\, CHAIRWOMAN \n\nINVITES YOU TO \n\n \n\nSOUTH MIDDLETOWN DIVISION MEETING \n\n TUESDAY\, OCTOBER 17\, 2017   \n\nAT \n\nTHE VILLAGE AT SOUTH FARMS \n\n645 Saybrook Road\, Middletown \n\n7:45 a.m.   9:00 a.m. \n \n\nCity Updates will be given by:\n\nMAYOR DAN DREW\n\nAnd the following City Departments:\n\n            Planning Office\n\n            Police Dept.\n\n            South Fire District\n\n            Public Works\n\n            Health Dept.\n\n \n\nFind out the latest information about the Chamber!\n\n \n\nA complimentary continental breakfast will be provided\, courtesy of The Village at South Farms!\n\n \n\nNetwork with other members of the Middletown business community and surrounding areas!
X-ALT-DESC;FMTTYPE=text/html:<div style="text-align: center\;"><br />\n<strong><span style="font-family:arial\,sans-serif\;"><span style="font-size:12.0pt\;">BETH WILLIAMS\, CHAIRWOMAN </span></span></strong><br />\n<strong><span style="font-family:arial\,sans-serif\;"><span style="font-size:12.0pt\;">INVITES YOU TO </span></span></strong><br />\n&nbsp\;<br />\n<strong><span style="font-family:arial\,sans-serif\;"><span style="font-size:12.0pt\;">SOUTH MIDDLETOWN DIVISION MEETING </span></span></strong><br />\n<span style="font-family:arial\,sans-serif\;"><span style="font-size:12.0pt\;">&nbsp\;TUESDAY\, OCTOBER 17\, 2017&nbsp\;&nbsp\; </span></span><br />\n<span style="font-family:arial\,sans-serif\;"><span style="font-size:12.0pt\;">AT </span></span><br />\n<span style="font-family:arial\,sans-serif\;"><span style="font-size:12.0pt\;">THE VILLAGE AT SOUTH FARMS </span></span><br />\n<span style="font-family:arial\,sans-serif\;"><span style="font-size:12.0pt\;">645 Saybrook Road\, Middletown </span></span><br />\n<span style="font-family:arial\,sans-serif\;"><span style="font-size:12.0pt\;">7:45 a.m. &mdash\; 9:00 a.m. </span></span></div>\n&nbsp\;<br />\n<span style="font-family:arial\,sans-serif\;"><span style="font-size:12.0pt\;">City Updates will be given by:</span></span><br />\n<span style="font-family:arial\,sans-serif\;"><span style="font-size:12.0pt\;">MAYOR DAN DREW</span></span><br />\n<span style="font-family:arial\,sans-serif\;"><span style="font-size:12.0pt\;">And the following City Departments:</span></span><br />\n<span style="font-family:arial\,sans-serif\;"><span style="font-size:12.0pt\;">&nbsp\;&nbsp\;&nbsp\;&nbsp\;&nbsp\;&nbsp\;&nbsp\;&nbsp\;&nbsp\;&nbsp\;&nbsp\; Planning Office</span></span><br />\n<span style="font-family:arial\,sans-serif\;"><span style="font-size:12.0pt\;">&nbsp\;&nbsp\;&nbsp\;&nbsp\;&nbsp\;&nbsp\;&nbsp\;&nbsp\;&nbsp\;&nbsp\;&nbsp\; Police Dept.</span></span><br />\n<span style="font-family:arial\,sans-serif\;"><span style="font-size:12.0pt\;">&nbsp\;&nbsp\;&nbsp\;&nbsp\;&nbsp\;&nbsp\;&nbsp\;&nbsp\;&nbsp\;&nbsp\;&nbsp\; South Fire District</span></span><br />\n<span style="font-family:arial\,sans-serif\;"><span style="font-size:12.0pt\;">&nbsp\;&nbsp\;&nbsp\;&nbsp\;&nbsp\;&nbsp\;&nbsp\;&nbsp\;&nbsp\;&nbsp\;&nbsp\; Public Works</span></span><br />\n<span style="font-family:arial\,sans-serif\;"><span style="font-size:12.0pt\;">&nbsp\;&nbsp\;&nbsp\;&nbsp\;&nbsp\;&nbsp\;&nbsp\;&nbsp\;&nbsp\;&nbsp\;&nbsp\; Health Dept.</span></span><br />\n&nbsp\;<br />\n<span style="font-family:arial\,sans-serif\;"><span style="font-size:12.0pt\;">Find out the latest information about the Chamber!</span></span><br />\n&nbsp\;<br />\n<span style="font-family:arial\,sans-serif\;"><span style="font-size:12.0pt\;">A complimentary continental breakfast will be provided\, courtesy of The Village at South Farms!</span></span><br />\n&nbsp\;<br />\n<span style="font-family:arial\,sans-serif\;"><span style="font-size:12.0pt\;">Network with other members of the Middletown business community and surrounding areas!</span></span><br />\n&nbsp\;
LOCATION:Village at South Farms 645 Saybrook Road Middletown\, CT
UID:e.1932.4703
SEQUENCE:3
DTSTAMP:20260423T202107Z
URL:https://business.middlesexchamber.com/events/details/south-middletown-division-4703
END:VEVENT

END:VCALENDAR
