BEGIN:VCALENDAR
VERSION:2.0
PRODID:-//ChamberMaster//Event Calendar 2.0//EN
METHOD:PUBLISH
X-PUBLISHED-TTL:P3D
REFRESH-INTERVAL:P3D
CALSCALE:GREGORIAN
BEGIN:VEVENT
DTSTART:20171017T233000Z
DTEND:20171018T003000Z
X-MICROSOFT-CDO-ALLDAYEVENT:FALSE
SUMMARY:Sound Healing W/ Lou
DESCRIPTION:Hosted by Lou Sorrentino\, sound healing combines psychological therapies with music to heal the body. With instruments such as Crystal Bowls crafted for perfect resonance\, Lou restores energy flows to their proper states and bring peace to our bodies.
X-ALT-DESC;FMTTYPE=text/html:Hosted by Lou Sorrentino\, sound healing combines psychological therapies with music to heal the body. With instruments such as Crystal Bowls crafted for perfect resonance\, Lou restores energy flows to their proper states and bring peace to our bodies.
LOCATION:The Buttonwood Tree 605 Main St Middletown CT
UID:e.1932.4726
SEQUENCE:3
DTSTAMP:20260424T103959Z
URL:https://business.middlesexchamber.com/events/details/sound-healing-w-lou-4726
END:VEVENT

END:VCALENDAR
