BEGIN:VCALENDAR
VERSION:2.0
PRODID:-//ChamberMaster//Event Calendar 2.0//EN
METHOD:PUBLISH
X-PUBLISHED-TTL:P3D
REFRESH-INTERVAL:P3D
CALSCALE:GREGORIAN
BEGIN:VEVENT
DTSTART:20171118T010000Z
DTEND:20171118T030000Z
X-MICROSOFT-CDO-ALLDAYEVENT:FALSE
SUMMARY:Someone You Can Xray & Brian May
DESCRIPTION:Someone You Can Xray: Is a CT-based rock fusion band for everyone!   From electric blues & country\, to funk and psychedelic improvisations\, hilarious stage antics and surprise instruments\, there's always a surprise!\n\nBrian May: Brian May is making his fourth appearance at The Buttonwood Tree and has been performing around Ct.\, New England and New York State for the past 50 years. This show will feature all original songs\, with influences of roots\, blues and some folk rock. Vocal harmonies a plus with excellent instrumentalists from both acts.
X-ALT-DESC;FMTTYPE=text/html:<p><strong>Someone You Can Xray</strong><strong>:&nbsp\;</strong>Is a CT-based rock fusion band for everyone!&nbsp\;&nbsp\; From electric blues &amp\; country\, to funk and psychedelic improvisations\, hilarious stage antics and surprise instruments\, there&rsquo\;s always a surprise!</p>\n\n<p><strong>Brian May</strong><strong>:&nbsp\;</strong>Brian May is making his fourth appearance at The Buttonwood Tree and has been performing around Ct.\, New England and New York State for the past 50 years. This show will feature all original songs\, with influences of roots\, blues and some folk rock. Vocal harmonies a plus with excellent instrumentalists from both acts.</p>\n
LOCATION:The Buttonwood Tree 605 Main Street Middletown
UID:e.1932.4734
SEQUENCE:3
DTSTAMP:20260423T015705Z
URL:https://business.middlesexchamber.com/events/details/someone-you-can-xray-brian-may-4734
END:VEVENT

END:VCALENDAR
