BEGIN:VCALENDAR
VERSION:2.0
PRODID:-//ChamberMaster//Event Calendar 2.0//EN
METHOD:PUBLISH
X-PUBLISHED-TTL:P3D
REFRESH-INTERVAL:P3D
CALSCALE:GREGORIAN
BEGIN:VEVENT
DTSTART:20171001T200000Z
DTEND:20171001T230000Z
X-MICROSOFT-CDO-ALLDAYEVENT:FALSE
SUMMARY:Sip & Celebrate
DESCRIPTION:The Middlesex YMCA will hold "Sip & Celebrate: A Tasting Event" including wine\, beer and spirits. Tickets are $50 per person. Proceeds from this fundraising event will benefit the YMCA's Annual Campaign supporting youth programs\, Open Doors\, and program scholarships. Guests will enjoy music\, food\, silent and live auctions and a wine pull. This event is for guests age 21 plus.
X-ALT-DESC;FMTTYPE=text/html:The Middlesex YMCA will hold &ldquo\;Sip &amp\; Celebrate: A Tasting Event&rdquo\; including wine\, beer and spirits. Tickets are $50 per person. Proceeds from this fundraising event will benefit the YMCA&rsquo\;s Annual Campaign supporting youth programs\, Open Doors\, and program scholarships. Guests will enjoy music\, food\, silent and live auctions and a wine pull. This event is for guests age 21 plus.
LOCATION:YMCA Camp Ingersoll 94 Camp Ingersoll Road Portland\, CT
UID:e.1932.4671
SEQUENCE:3
DTSTAMP:20260423T181117Z
URL:https://business.middlesexchamber.com/events/details/sip-celebrate-4671
END:VEVENT

END:VCALENDAR
