BEGIN:VCALENDAR
VERSION:2.0
PRODID:-//ChamberMaster//Event Calendar 2.0//EN
METHOD:PUBLISH
X-PUBLISHED-TTL:P3D
REFRESH-INTERVAL:P3D
CALSCALE:GREGORIAN
BEGIN:VEVENT
DTSTART:20220913T223000Z
DTEND:20220914T010000Z
X-MICROSOFT-CDO-ALLDAYEVENT:FALSE
SUMMARY:Sing with GMChorale for it's 2022-2023 Season!
DESCRIPTION:GMChorale has a fantastic Mainstage Season planned for 2022-2023 and we would love for YOU  to be a part of it. \n\n\n\nIn November\, baroque will meet contemporary when Antonio Vivaldi's Gloria is performed alongside Martin Sedek's The Four Seasons: A Cantata. The latter is set to sonnets\, translated into English by the composer\, that Vivaldi originally set to accompany his instrumental work: The Four Seasons.  Audiences will be delighted to hear the baroque and contemporary styles in conversation and juxtaposed against one another for a uniquely GMChorale musical event.\n\n\n\nThen\, in Spring 2023\, we will present another timeless master work: Brahms' Ein Deutsches Requiem (A German Requiem). Sung in German\, Brahms' sacred but non-liturgical masterpiece\, is a timeless work that seeks to comfort the living. GMChorale singers have the opportunity to become better musicians by engaging with these masterpieces with professional section leaders and music teachers\, an experience unique to GMChorale.\n\n \nDon't miss the unique opportunity to fall in love again with these timeless masterworks. Claim your seat! Sing with GMChorale.\n\n \n\nwww.gmchorale.org/join for more information and auditions
X-ALT-DESC;FMTTYPE=text/html:GMChorale has a fantastic Mainstage Season planned for 2022-2023 and we would love for&nbsp\;<span style="color:rgb(255\, 0\, 0)"><strong>YOU&nbsp\;&nbsp\;</strong></span>to be a part of it.&nbsp\;<br />\n<br />\nIn November\,&nbsp\;baroque&nbsp\;will meet contemporary&nbsp\;when&nbsp\;<strong>Antonio&nbsp\;Vivaldi&#39\;s Gloria</strong>&nbsp\;is performed alongside&nbsp\;<strong>Martin Sedek&#39\;s The Four Seasons: A Cantata</strong>. The latter is set to sonnets\, translated into English by the composer\, that Vivaldi originally set to accompany his instrumental&nbsp\;work: The Four Seasons.&nbsp\; Audiences will be delighted to hear the baroque and contemporary styles in conversation and juxtaposed&nbsp\;against one another for a uniquely GMChorale musical event.<br />\n<br />\nThen\, in Spring 2023\, we will present another timeless master work:&nbsp\;<strong>Brahms&#39\; Ein Deutsches Requiem (A German Requiem)</strong>. Sung in German\, Brahms&#39\; sacred but non-liturgical masterpiece\, is a timeless work that seeks to comfort the living. GMChorale singers have the opportunity to&nbsp\;<strong>become better musicians</strong>&nbsp\;by engaging with these masterpieces with professional section leaders and music teachers\, an experience unique to GMChorale.<br />\n&nbsp\;\n<div>Don&#39\;t miss the unique opportunity to fall in love again with these timeless masterworks. Claim your seat! Sing with GMChorale.</div>\n\n<div style="text-align:center">&nbsp\;</div>\n\n<div><a href="http://www.gmchorale.org/join" style="color: rgb(17\, 85\, 204)\;" target="_blank">www.gmchorale.org/join</a>&nbsp\;for more information and auditions</div>\n
LOCATION:Rehearsals take place at: Bethany Lutheran Church 50 Court Street Cromwell\, CT The concert will take place at: The Santo Fragilio Performing Arts Center at Middletown High School 200 La Rosa Lane Middletown\, CT.
UID:e.1932.23901
SEQUENCE:3
DTSTAMP:20260421T005416Z
URL:https://business.middlesexchamber.com/events/details/sing-with-gmchorale-for-it-s-2022-2023-season-09-13-2022-23901
END:VEVENT

END:VCALENDAR
