BEGIN:VCALENDAR
VERSION:2.0
PRODID:-//ChamberMaster//Event Calendar 2.0//EN
METHOD:PUBLISH
X-PUBLISHED-TTL:P3D
REFRESH-INTERVAL:P3D
CALSCALE:GREGORIAN
BEGIN:VEVENT
DTSTART:20250827T220000Z
DTEND:20250828T023000Z
X-MICROSOFT-CDO-ALLDAYEVENT:FALSE
SUMMARY:Side Street to Main Street Program Class 25 Mandatory Program Orientation
DESCRIPTION:
X-ALT-DESC;FMTTYPE=text/html:
LOCATION:Middletown Police Department Community Room 222 Main Street Middletown\, CT
UID:e.1932.32614
SEQUENCE:3
DTSTAMP:20260424T235922Z
URL:https://business.middlesexchamber.com/events/details/side-street-to-main-street-program-class-25-mandatory-program-orientation-32614
END:VEVENT

END:VCALENDAR
