BEGIN:VCALENDAR
VERSION:2.0
PRODID:-//ChamberMaster//Event Calendar 2.0//EN
METHOD:PUBLISH
X-PUBLISHED-TTL:P3D
REFRESH-INTERVAL:P3D
CALSCALE:GREGORIAN
BEGIN:VEVENT
DTSTART:20251008T221500Z
DTEND:20251009T023000Z
X-MICROSOFT-CDO-ALLDAYEVENT:FALSE
SUMMARY:Side Street to Main Street Business & Leadership Development Program Class 25 Session 1
DESCRIPTION:The Side Street to Main Street Business & Leadership Development  Program\, a one year long entrepreneurial and business development course\, with a rigorous curriculum\, was specifically designed to assist minority small business owners in the community\, who did not have formal business training\, to become more successful by developing the attitudes\, skills and qualities necessary for effective business ownership and success\, taking them from the Side Street to the Main Street of the business community.\n\n \n\nFor more detailed information on Minority Entrepreneurial and Business Programs\, Email: jennifer@middlesexchamber.com or visit: https://www.middlesexchamber.com/side-street-to-main-street-program/
X-ALT-DESC;FMTTYPE=text/html:The Side Street to Main Street Business &amp\; Leadership Development&nbsp\; Program\, a one year long entrepreneurial and business development course\, with a rigorous curriculum\, was specifically designed to assist minority small business owners in the community\, who did not have formal business training\, to become more successful by developing the attitudes\, skills and qualities necessary for effective business ownership and success\, taking them from the Side Street to the Main Street of the business community.<br />\n&nbsp\;<br />\nFor more detailed information on Minority Entrepreneurial and Business Programs\, Email: <a href="mailto:jennifer@middlesexchamber.com">jennifer@middlesexchamber.com</a> or visit: <a href="https://www.middlesexchamber.com/side-street-to-main-street-program/">https://www.middlesexchamber.com/side-street-to-main-street-program/</a>
LOCATION:Middletown Police Department Community Room 222 Main Street Middletown\, CT
UID:e.1932.32703
SEQUENCE:3
DTSTAMP:20260424T212851Z
URL:https://business.middlesexchamber.com/events/details/side-street-to-main-street-business-leadership-development-program-class-25-session-1-32703
END:VEVENT

END:VCALENDAR
