BEGIN:VCALENDAR
VERSION:2.0
PRODID:-//ChamberMaster//Event Calendar 2.0//EN
METHOD:PUBLISH
X-PUBLISHED-TTL:P3D
REFRESH-INTERVAL:P3D
CALSCALE:GREGORIAN
BEGIN:VEVENT
DTSTART:20201117T231000Z
DTEND:20201118T033000Z
X-MICROSOFT-CDO-ALLDAYEVENT:FALSE
SUMMARY:Side Street to Main Street "Business Know-How 201" Session 4
DESCRIPTION:
X-ALT-DESC;FMTTYPE=text/html:
LOCATION:Class conducted via Zoom
UID:e.1932.19524
SEQUENCE:3
DTSTAMP:20260421T044633Z
URL:https://business.middlesexchamber.com/events/details/side-street-to-main-street-business-know-how-201-session-4-19524
END:VEVENT

END:VCALENDAR
