BEGIN:VCALENDAR
VERSION:2.0
PRODID:-//ChamberMaster//Event Calendar 2.0//EN
METHOD:PUBLISH
X-PUBLISHED-TTL:P3D
REFRESH-INTERVAL:P3D
CALSCALE:GREGORIAN
BEGIN:VEVENT
DTSTART;VALUE=DATE:20201128
DTEND;VALUE=DATE:20201129
TRANSP:TRANSPARENT
X-MICROSOFT-CDO-ALLDAYEVENT:TRUE
SUMMARY:Shop for the Holiday! Shop Local for Small Business Saturday!
DESCRIPTION:Add your business to the map or update your listing today to make it easier for shoppers to support you in-store and online!\n\n\n\nAmerican Express cares deeply about thriving communities and believes small businesses are at the core of every successful neighborhood. That's why in the midst of the recession in 2010 we created Small Business Saturday  on the Saturday after Thanksgiving to encourage people to Shop Small and bring more holiday shopping to small businesses.\n\n \n\nIn an effort to support their local communities\, organizations across the country sign up to serve as Neighborhood Champions. These supporters bring their community together with events and activities on Small Business Saturday and throughout the year. You might not realize it\, but every time you take a yoga class at your neighborhood spot or buy a gift from the local artist down the street\, you're shopping small and making a difference.\n\n \n\nIn fact\, for every dollar spent at a small business in the U.S.\, approximately 67 cents stays in the local community. So when you Shop Small on Small Business Saturday and all year long you can help create a big impact.
X-ALT-DESC;FMTTYPE=text/html:<span style="font-size:16px\;"><span style="color:#2F5496\;"><span style="font-family:verdana\,sans-serif\;"><strong><a href="https://www.americanexpress.com/us/small-business/shop-small/smallbusinessowners/?linknav=us-loy-nav-smallbusinessowners">Add your business to the map or update your listing today to make it easier for shoppers to support you in-store and online!</a></strong><br />\n<br />\nAmerican Express cares deeply about thriving communities and believes small businesses are at the core of every successful neighborhood. That&#39\;s why in the midst of the recession in 2010 we created Small Business Saturday&reg\; on the Saturday after Thanksgiving to encourage people to Shop Small and bring more holiday shopping to small businesses.</span></span><br />\n&nbsp\;<br />\n<span style="color:#2F5496\;"><span style="font-family:verdana\,sans-serif\;">In an effort to support their local communities\, organizations across the country sign up to serve as Neighborhood Champions. These supporters bring their community together with events and activities on Small Business Saturday and throughout the year. You might not realize it\, but every time you take a yoga class at your neighborhood spot or buy a gift from the local artist down the street\, you&#39\;re shopping small and making a difference.</span></span><br />\n&nbsp\;<br />\n<span style="color:#2F5496\;"><span style="font-family:verdana\,sans-serif\;">In fact\, for every dollar spent at a small business in the U.S.\, approximately 67 cents stays in the local community. So when you Shop Small on Small Business Saturday and all year long you can help create a big impact.</span></span></span><br />\n&nbsp\;\n<div style="text-align: center\;">&nbsp\;</div>\n
LOCATION:
UID:e.1932.20087
SEQUENCE:3
DTSTAMP:20260421T044650Z
URL:https://business.middlesexchamber.com/events/details/shop-for-the-holiday-shop-local-for-small-business-saturday-20087
END:VEVENT

END:VCALENDAR
