BEGIN:VCALENDAR
VERSION:2.0
PRODID:-//ChamberMaster//Event Calendar 2.0//EN
METHOD:PUBLISH
X-PUBLISHED-TTL:P3D
REFRESH-INTERVAL:P3D
CALSCALE:GREGORIAN
BEGIN:VEVENT
DTSTART:20221117T190000Z
DTEND:20221117T203000Z
X-MICROSOFT-CDO-ALLDAYEVENT:FALSE
SUMMARY:SCORE Webinar: Website Planning 101
DESCRIPTION:Ready for a new website? Whether you're building it yourself or you decide to work with a pro\, getting organized is the key to your website's success.\n\n\n\nWith Jessica Baldwin\, co-founder of Cardsetter\, learn to define your audience\, set your website's goals\, determine key functionality and features\, plan content\, and more.\n\n\n\nYou'll leave with a comprehensive plan in place for your business's website.
X-ALT-DESC;FMTTYPE=text/html:Ready for a new website? Whether you&#39\;re building it yourself or you decide to work with a pro\, getting organized is the key to your website&#39\;s success.<br />\n<br />\nWith Jessica Baldwin\, co-founder of Cardsetter\, learn to define your audience\, set your website&rsquo\;s goals\, determine key functionality and features\, plan content\, and more.<br />\n<br />\nYou&rsquo\;ll leave with a comprehensive plan in place for your business&rsquo\;s website.
LOCATION:Online via Zoom
UID:e.1932.24023
SEQUENCE:3
DTSTAMP:20260420T220408Z
URL:https://business.middlesexchamber.com/events/details/score-webinar-website-planning-101-11-17-2022-24023
END:VEVENT

END:VCALENDAR
