BEGIN:VCALENDAR
VERSION:2.0
PRODID:-//ChamberMaster//Event Calendar 2.0//EN
METHOD:PUBLISH
X-PUBLISHED-TTL:P3D
REFRESH-INTERVAL:P3D
CALSCALE:GREGORIAN
BEGIN:VEVENT
DTSTART:20241114T170000Z
DTEND:20241114T183000Z
X-MICROSOFT-CDO-ALLDAYEVENT:FALSE
SUMMARY:SCORE Webinar: The ABCs of a Business Plan & Understanding a SWOT Analysis
DESCRIPTION:How important is it to have a business plan?\n\nWhat is a SWOT analysis?\n\nAre the two connected?\n\n\n\nWith Economic Development Specialist Tanisha Baptiste of the Small Business Administration\, you'll learn:\n\n\n	The importance of both\n	 What they are used for\n	What information they should contain\n	What they say about your business\n\n\nCLICK HERE to Register
X-ALT-DESC;FMTTYPE=text/html:<div style="text-align: center\;"><span style="font-size:18px\;"><strong>How important is it to have a business plan?<br />\nWhat is a SWOT analysis?<br />\nAre the two connected?</strong></span></div>\n\n<div style="font-size: 18px\;"><br />\nWith Economic Development Specialist Tanisha Baptiste of the Small Business Administration\, you&#39\;ll learn:</div>\n\n<ul>\n	<li style="font-size: 18px\;">The importance of both</li>\n	<li style="font-size: 18px\;">&#8203\;What they are used for</li>\n	<li style="font-size: 18px\;">What information they should contain</li>\n	<li style="font-size: 18px\;"><span style="font-size:18px\;">What they say about your business</span></li>\n</ul>\n\n<div style="font-size: 18px\;"><span style="font-size:18px\;"><a href="https://score.tfaforms.net/112?EventID=a10Vt000002TrXd"><strong>CLICK HERE</strong> </a>to Register</span></div>\n
LOCATION:Online via Zoom.
UID:e.1932.30082
SEQUENCE:3
DTSTAMP:20260419T134345Z
URL:https://business.middlesexchamber.com/events/details/score-webinar-the-abcs-of-a-business-plan-understanding-a-swot-analysis-30082
END:VEVENT

END:VCALENDAR
