BEGIN:VCALENDAR
VERSION:2.0
PRODID:-//ChamberMaster//Event Calendar 2.0//EN
METHOD:PUBLISH
X-PUBLISHED-TTL:P3D
REFRESH-INTERVAL:P3D
CALSCALE:GREGORIAN
BEGIN:VEVENT
DTSTART:20230309T153000Z
DTEND:20230309T170000Z
X-MICROSOFT-CDO-ALLDAYEVENT:FALSE
SUMMARY:SCORE Webinar: The ABCs of a Business Plan and Understanding a SWOT Analysis
DESCRIPTION:How important is it to have a business plan? What is a SWOT analysis? Are the two connected?\n\n\n\nWith Economic Development Specialist Tanisha Baptiste of the Small Business Administration\, you'll learn the importance of both\, what they are used for\, what information they should contain\, and what they say about your business. Sponsored by CorePlus Credit Union.
X-ALT-DESC;FMTTYPE=text/html:How important is it to have a business plan? What is a SWOT analysis? Are the two connected?<br />\n<br />\nWith Economic Development Specialist Tanisha Baptiste of the Small Business Administration\, you&#39\;ll learn the importance of both\, what they are used for\, what information they should contain\, and what they say about your business. Sponsored by CorePlus Credit Union.
LOCATION:Online via Zoom
UID:e.1932.24835
SEQUENCE:3
DTSTAMP:20260420T181934Z
URL:https://business.middlesexchamber.com/events/details/score-webinar-the-abcs-of-a-business-plan-and-understanding-a-swot-analysis-03-09-2023-24835
END:VEVENT

END:VCALENDAR
