BEGIN:VCALENDAR
VERSION:2.0
PRODID:-//ChamberMaster//Event Calendar 2.0//EN
METHOD:PUBLISH
X-PUBLISHED-TTL:P3D
REFRESH-INTERVAL:P3D
CALSCALE:GREGORIAN
BEGIN:VEVENT
DTSTART:20220921T153000Z
DTEND:20220921T170000Z
X-MICROSOFT-CDO-ALLDAYEVENT:FALSE
SUMMARY:SCORE Webinar: Tactics for Measuring Your Investment in Digital Advertising
DESCRIPTION:In this free session with Greg Boyd\, Director of Digital Marketing at Miranda Creative\, you'll learn how to tell if the many marketing options and technologies available today are working to drive more business through your doors.\n\n\n\nGreg will share real-world insights and tips for tracking campaigns and making sense of your marketing efforts.
X-ALT-DESC;FMTTYPE=text/html:In this free session with Greg Boyd\, Director of Digital Marketing at Miranda Creative\, you&rsquo\;ll learn how to tell if the many marketing options and technologies available today are working to drive more business through your doors.<br />\n<br />\nGreg will share real-world insights and tips for tracking campaigns and making sense of your marketing efforts.
LOCATION:Online via Zoom
UID:e.1932.23919
SEQUENCE:3
DTSTAMP:20260421T021151Z
URL:https://business.middlesexchamber.com/events/details/score-webinar-tactics-for-measuring-your-investment-in-digital-advertising-23919
END:VEVENT

END:VCALENDAR
