BEGIN:VCALENDAR
VERSION:2.0
PRODID:-//ChamberMaster//Event Calendar 2.0//EN
METHOD:PUBLISH
X-PUBLISHED-TTL:P3D
REFRESH-INTERVAL:P3D
CALSCALE:GREGORIAN
BEGIN:VEVENT
DTSTART:20230216T223000Z
DTEND:20230217T000000Z
X-MICROSOFT-CDO-ALLDAYEVENT:FALSE
SUMMARY:SCORE Webinar: Starting and Running a Service Business
DESCRIPTION:Many processes and strategies apply equally to those businesses that sell products and those that sell services.\n\n\n\nHowever\, for a service-based small business\, the intangible product is that provided by the owner. In other words\, "you" are the product\, so you are selling or providing what you do (not a product that you manufacture or distribute).\n\n\n\nThis webinar with SCORE Mentor Eric Munro will focus on identifying the key activities you must develop in order to run your service-based business profitably. You'll learn to find and target your client base\, build strong relationships with clients\, define the potential value of the service you offer\, and more.
X-ALT-DESC;FMTTYPE=text/html:Many processes and strategies apply equally to those businesses that sell products and those that sell services.<br />\n<br />\nHowever\, for a service-based small business\, the intangible product is that provided by the owner. In other words\, &ldquo\;you&rdquo\; are the product\, so you are selling or providing what you do (not a product that you manufacture or distribute).<br />\n<br />\nThis webinar with SCORE Mentor Eric Munro will focus on identifying the key activities you must develop in order to run your service-based business profitably. You&rsquo\;ll learn to find and target your client base\, build strong relationships with clients\, define the potential value of the service you offer\, and more.
LOCATION:Online via Zoom
UID:e.1932.24778
SEQUENCE:3
DTSTAMP:20260420T181338Z
URL:https://business.middlesexchamber.com/events/details/score-webinar-starting-and-running-a-service-business-24778
END:VEVENT

END:VCALENDAR
