BEGIN:VCALENDAR
VERSION:2.0
PRODID:-//ChamberMaster//Event Calendar 2.0//EN
METHOD:PUBLISH
X-PUBLISHED-TTL:P3D
REFRESH-INTERVAL:P3D
CALSCALE:GREGORIAN
BEGIN:VEVENT
DTSTART:20220210T170000Z
DTEND:20220210T183000Z
X-MICROSOFT-CDO-ALLDAYEVENT:FALSE
SUMMARY:SCORE Webinar: Small Business Loans - Issues and Options
DESCRIPTION:This new webinar\, featuring a panel of experienced small business lenders from Chelsea Groton Bank\, Southeastern Connecticut Enterprise Region (seCTer)\, Small Business Administration (SBA)\, and Community Investment Corporation (CIC)\, will explain the basics of borrowing money and enable you to ask your own questions during an extensive Question and Answer period.\n\n\n\nSponsored by Liberty Bank.
X-ALT-DESC;FMTTYPE=text/html:This new webinar\, featuring a panel of experienced small business lenders from Chelsea Groton Bank\, Southeastern Connecticut Enterprise Region (seCTer)\, Small Business Administration (SBA)\, and Community Investment Corporation (CIC)\, will explain the basics of borrowing money and enable you to ask your own questions during an extensive Question and Answer period.<br />\n<br />\nSponsored by Liberty Bank.
LOCATION:Online via Zoom
UID:e.1932.23532
SEQUENCE:3
DTSTAMP:20260423T104944Z
URL:https://business.middlesexchamber.com/events/details/score-webinar-small-business-loans-issues-and-options-23532
END:VEVENT

END:VCALENDAR
