BEGIN:VCALENDAR
VERSION:2.0
PRODID:-//ChamberMaster//Event Calendar 2.0//EN
METHOD:PUBLISH
X-PUBLISHED-TTL:P3D
REFRESH-INTERVAL:P3D
CALSCALE:GREGORIAN
BEGIN:VEVENT
DTSTART:20220503T140000Z
DTEND:20220503T153000Z
X-MICROSOFT-CDO-ALLDAYEVENT:FALSE
SUMMARY:SCORE Webinar: QuickBooks 1 - Managing Your Business Finances with QuickBooks
DESCRIPTION:If you have turned to QuickBooks  for help as a new user\, and find you need help setting up the program\, this webinar is for you.\n\n\n\nIt will explain the Chart of Accounts and its critical importance in the correct use of QuickBooks.\n\n\n\nThere will be time for Q&A on any QuickBooks questions you have.
X-ALT-DESC;FMTTYPE=text/html:If you have turned to QuickBooks&trade\; for help as a new user\, and find you need help setting up the program\, this webinar is for you.<br />\n<br />\nIt will explain the Chart of Accounts and its critical importance in the correct use of QuickBooks.<br />\n<br />\nThere will be time for Q&amp\;A on any QuickBooks questions you have.
LOCATION:Online via Zoom
UID:e.1932.23617
SEQUENCE:3
DTSTAMP:20260421T073929Z
URL:https://business.middlesexchamber.com/events/details/score-webinar-quickbooks-1-managing-your-business-finances-with-quickbooks-23617
END:VEVENT

END:VCALENDAR
