BEGIN:VCALENDAR
VERSION:2.0
PRODID:-//ChamberMaster//Event Calendar 2.0//EN
METHOD:PUBLISH
X-PUBLISHED-TTL:P3D
REFRESH-INTERVAL:P3D
CALSCALE:GREGORIAN
BEGIN:VEVENT
DTSTART:20250212T223000Z
DTEND:20250213T000000Z
X-MICROSOFT-CDO-ALLDAYEVENT:FALSE
SUMMARY:SCORE Webinar: Plan Your Website for Online Success
DESCRIPTION:You know you need a website for your business. But how do you set it up for online success? First\, you need to have a solid plan in place.\n\n\n\nThis free webinar with Joshua Toenyes\, CEO of Cardsetter\, will give you a better understanding of your website's audience\, feature and functionality needs\, content planning\, how to choose the right platform\, and best practices for online success.\n\n\n\nAfter the webinar\, you'll have a comprehensive plan in place for your business's website.
X-ALT-DESC;FMTTYPE=text/html:<span style="font-size:18px\;">You know you need a website for your business. But how do you set it up for online success? First\, you need to have a solid plan in place.<br />\n<br />\nThis free webinar with Joshua Toenyes\, CEO of Cardsetter\, will give you a better understanding of your website&rsquo\;s audience\, feature and functionality needs\, content planning\, how to choose the right platform\, and best practices for online success.<br />\n<br />\nAfter the webinar\, you&rsquo\;ll have a comprehensive plan in place for your business&rsquo\;s website.</span>
LOCATION:Online via Zoom
UID:e.1932.30587
SEQUENCE:3
DTSTAMP:20260421T111136Z
URL:https://business.middlesexchamber.com/events/details/score-webinar-plan-your-website-for-online-success-02-12-2025-30587
END:VEVENT

END:VCALENDAR
