BEGIN:VCALENDAR
VERSION:2.0
PRODID:-//ChamberMaster//Event Calendar 2.0//EN
METHOD:PUBLISH
X-PUBLISHED-TTL:P3D
REFRESH-INTERVAL:P3D
CALSCALE:GREGORIAN
BEGIN:VEVENT
DTSTART:20230323T160000Z
DTEND:20230323T173000Z
X-MICROSOFT-CDO-ALLDAYEVENT:FALSE
SUMMARY:SCORE Webinar: Messaging in Motion - The Bridge Between YouTube\, TikTok and Other Social Media
DESCRIPTION:Video is one of the most effective forms of brand storytelling. In this timely and hands-on webinar\, Yana Dynia of Miranda Creative will share real-world examples of her efforts as well as the materials and techniques behind the scenes.\n\n\n\nDesigned for beginners\, the webinar will cover the common questions video creators face and leave you feeling confident in your video production capabilities!\n\n\n\nSponsored by TD Bank.
X-ALT-DESC;FMTTYPE=text/html:Video is one of the most effective forms of brand storytelling. In this timely and hands-on webinar\, Yana Dynia of Miranda Creative will share real-world examples of her efforts as well as the materials and techniques behind the scenes.<br />\n<br />\nDesigned for beginners\, the webinar will cover the common questions video creators face and leave you feeling confident in your video production capabilities!<br />\n<br />\nSponsored by TD Bank.
LOCATION:Online via Zoom
UID:e.1932.25172
SEQUENCE:3
DTSTAMP:20260420T181547Z
URL:https://business.middlesexchamber.com/events/details/score-webinar-messaging-in-motion-the-bridge-between-youtube-tiktok-and-other-social-media-25172
END:VEVENT

END:VCALENDAR
