BEGIN:VCALENDAR
VERSION:2.0
PRODID:-//ChamberMaster//Event Calendar 2.0//EN
METHOD:PUBLISH
X-PUBLISHED-TTL:P3D
REFRESH-INTERVAL:P3D
CALSCALE:GREGORIAN
BEGIN:VEVENT
DTSTART:20250226T223000Z
DTEND:20250227T000000Z
X-MICROSOFT-CDO-ALLDAYEVENT:FALSE
SUMMARY:SCORE Webinar: Marketing Fundamentals
DESCRIPTION:Successful business owners start by understanding their position in the market. They know what they are selling\, who their competitors are\, who their target customers are\, and how to reach them.\n\n\n\nThese are the fundamentals of marketing\, and critical to developing an effective growth strategy for your brand.\n\n\n\nMargo Weitekamp\, a marketing expert and SCORE mentor\, explains marketing fundamentals to help you grow your business.\n\n\n\nThis webinar is perfect for individuals with no formal training and those who would like to refresh their knowledge.\n\n\n\nThere will be time for questions and feedback. With support from Webster Bank.\n\n\n\nREGISTER HERE
X-ALT-DESC;FMTTYPE=text/html:<span style="font-size:18px\;">Successful business owners start by understanding their position in the market. They know what they are selling\, who their competitors are\, who their target customers are\, and how to reach them.<br />\n<br />\nThese are the fundamentals of marketing\, and critical to developing an effective growth strategy for your brand.<br />\n<br />\nMargo Weitekamp\, a marketing expert and SCORE mentor\, explains marketing fundamentals to help you grow your business.<br />\n<br />\nThis webinar is perfect for individuals with no formal training and those who would like to refresh their knowledge.<br />\n<br />\nThere will be time for questions and feedback. With support from Webster Bank.<br />\n<br />\n<a href="https://www.score.org/easternct/event/marketing-fundamentals-0"><strong>REGISTER HERE</strong></a></span>
LOCATION:Online via Zoom
UID:e.1932.30711
SEQUENCE:3
DTSTAMP:20260421T111136Z
URL:https://business.middlesexchamber.com/events/details/score-webinar-marketing-fundamentals-02-26-2025-30711
END:VEVENT

END:VCALENDAR
