BEGIN:VCALENDAR
VERSION:2.0
PRODID:-//ChamberMaster//Event Calendar 2.0//EN
METHOD:PUBLISH
X-PUBLISHED-TTL:P3D
REFRESH-INTERVAL:P3D
CALSCALE:GREGORIAN
BEGIN:VEVENT
DTSTART:20220222T223000Z
DTEND:20220223T000000Z
X-MICROSOFT-CDO-ALLDAYEVENT:FALSE
SUMMARY:SCORE Webinar: Marketing Fundamentals
DESCRIPTION:This interactive webinar with Business Executive and SCORE Mentor Margo Weitekamp provides marketing fundamentals for individuals with no formal training\, who want to grow their business.\n\n\n\nLearn to create customer engagement\, define key elements of your marketing strategy\, and discuss digital 'must-haves' for your on-line presence.\n\n\n\nThere will be time for questions and feedback.\n\n\n\nSponsored by Sullivan Lawn Services.
X-ALT-DESC;FMTTYPE=text/html:This interactive webinar with Business Executive and SCORE Mentor Margo Weitekamp provides marketing fundamentals for individuals with no formal training\, who want to grow their business.<br />\n<br />\nLearn to create customer engagement\, define key elements of your marketing strategy\, and discuss digital &lsquo\;must-haves&rsquo\; for your on-line presence.<br />\n<br />\nThere will be time for questions and feedback.<br />\n<br />\nSponsored by Sullivan Lawn Services.
LOCATION:Online via Zoom
UID:e.1932.23551
SEQUENCE:3
DTSTAMP:20260423T105204Z
URL:https://business.middlesexchamber.com/events/details/score-webinar-marketing-fundamentals-02-22-2022-23551
END:VEVENT

END:VCALENDAR
