BEGIN:VCALENDAR
VERSION:2.0
PRODID:-//ChamberMaster//Event Calendar 2.0//EN
METHOD:PUBLISH
X-PUBLISHED-TTL:P3D
REFRESH-INTERVAL:P3D
CALSCALE:GREGORIAN
BEGIN:VEVENT
DTSTART:20230201T223000Z
DTEND:20230202T000000Z
X-MICROSOFT-CDO-ALLDAYEVENT:FALSE
SUMMARY:SCORE Webinar: Marketing Fundamentals
DESCRIPTION:This interactive webinar with Business Executive and SCORE Mentor Margo Weitekamp provides marketing fundamentals for individuals with no formal training who want to grow their business.\n\nLearn to create customer engagement\, define key elements of your marketing strategy\, and discuss digital 'must-haves' for your online presence. There will be time for questions and feedback.
X-ALT-DESC;FMTTYPE=text/html:This interactive webinar with Business Executive and SCORE Mentor Margo Weitekamp provides marketing fundamentals for individuals with no formal training who want to grow their business.<br />\nLearn to create customer engagement\, define key elements of your marketing strategy\, and discuss digital &lsquo\;must-haves&rsquo\; for your online presence. There will be time for questions and feedback.
LOCATION:Online via Zoom
UID:e.1932.24755
SEQUENCE:3
DTSTAMP:20260420T181704Z
URL:https://business.middlesexchamber.com/events/details/score-webinar-marketing-fundamentals-02-01-2023-24755
END:VEVENT

END:VCALENDAR
