BEGIN:VCALENDAR
VERSION:2.0
PRODID:-//ChamberMaster//Event Calendar 2.0//EN
METHOD:PUBLISH
X-PUBLISHED-TTL:P3D
REFRESH-INTERVAL:P3D
CALSCALE:GREGORIAN
BEGIN:VEVENT
DTSTART:20220927T140000Z
DTEND:20220927T153000Z
X-MICROSOFT-CDO-ALLDAYEVENT:FALSE
SUMMARY:SCORE Webinar: Managing Your Business Finances with QuickBooks
DESCRIPTION:You have started your own business\, and you have bills to pay\, customer sales to track\, and taxes to file\, requiring paper\, paper and more paper.\n\n\n\nIf you have turned to QuickBooks  for help as a new user\, and find you need help setting up the program\, this webinar with Intuit ProAdvisor Elizabeth Santaus is for you.\n\n\n\nIt will explain the Chart of Accounts and its critical importance in the correct use of QuickBooks. There will be time for Q & A on any QuickBooks questions you may have!
X-ALT-DESC;FMTTYPE=text/html:You have started your own business\, and you have bills to pay\, customer sales to track\, and taxes to file\, requiring paper\, paper and more paper.<br />\n<br />\nIf you have turned to QuickBooks&trade\; for help as a new user\, and find you need help setting up the program\, this webinar with Intuit ProAdvisor Elizabeth Santaus is for you.<br />\n<br />\nIt will explain the Chart of Accounts and its critical importance in the correct use of QuickBooks. There will be time for Q &amp\; A on any QuickBooks questions you may have!
LOCATION:Online via Zoom
UID:e.1932.23920
SEQUENCE:3
DTSTAMP:20260421T005355Z
URL:https://business.middlesexchamber.com/events/details/score-webinar-managing-your-business-finances-with-quickbooks-09-27-2022-23920
END:VEVENT

END:VCALENDAR
