BEGIN:VCALENDAR
VERSION:2.0
PRODID:-//ChamberMaster//Event Calendar 2.0//EN
METHOD:PUBLISH
X-PUBLISHED-TTL:P3D
REFRESH-INTERVAL:P3D
CALSCALE:GREGORIAN
BEGIN:VEVENT
DTSTART:20230509T213000Z
DTEND:20230509T230000Z
X-MICROSOFT-CDO-ALLDAYEVENT:FALSE
SUMMARY:SCORE Webinar: Managing Your Business Finances with QuickBooks
DESCRIPTION:If you have your own business\, have turned to QuickBooks  for help as a new user\, and find you need help setting up the program\, this free live webinar with Intuit ProAdvisor Elizabeth Santaus is for you.\n\n\n\nIt will explain the Chart of Accounts and its critical importance in the correct use of QuickBooks.\n\n\n\nThere will be time for Q&A on any QuickBooks questions you have.\n\n\n\nSponsored by Essex Savings Bank.
X-ALT-DESC;FMTTYPE=text/html:If you have your own business\, have turned to QuickBooks&trade\; for help as a new user\, and find you need help setting up the program\, this free live webinar with Intuit ProAdvisor Elizabeth Santaus is for you.<br />\n<br />\nIt will explain the Chart of Accounts and its critical importance in the correct use of QuickBooks.<br />\n<br />\nThere will be time for Q&amp\;A on any QuickBooks questions you have.<br />\n<br />\nSponsored by Essex Savings Bank.
LOCATION:Online via Zoom
UID:e.1932.25294
SEQUENCE:3
DTSTAMP:20260420T153548Z
URL:https://business.middlesexchamber.com/events/details/score-webinar-managing-your-business-finances-with-quickbooks-05-09-2023-25294
END:VEVENT

END:VCALENDAR
