BEGIN:VCALENDAR
VERSION:2.0
PRODID:-//ChamberMaster//Event Calendar 2.0//EN
METHOD:PUBLISH
X-PUBLISHED-TTL:P3D
REFRESH-INTERVAL:P3D
CALSCALE:GREGORIAN
BEGIN:VEVENT
DTSTART:20230118T190000Z
DTEND:20230118T203000Z
X-MICROSOFT-CDO-ALLDAYEVENT:FALSE
SUMMARY:SCORE Webinar: Leverage LinkedIn to Grow Your Business
DESCRIPTION:LinkedIn is a powerful marketing and business-building platform for companies that target professionals. With over 875 million members\, it is the world's largest social media platform for professionals.\n\n\n\nThis webinar with LinkedIn expert Susan Catalano and Digital Marketing expert Robert Clark will provide you with the essential steps to develop a LinkedIn marketing program to generate quality leads and get more customers.
X-ALT-DESC;FMTTYPE=text/html:LinkedIn is a powerful marketing and business-building platform for companies that target professionals. With over 875 million members\, it is the world&rsquo\;s largest social media platform for professionals.<br />\n<br />\nThis webinar with LinkedIn expert Susan Catalano and Digital Marketing expert Robert Clark will provide you with the essential steps to develop a LinkedIn marketing program to generate quality leads and get more customers.
LOCATION:Online via Zoom
UID:e.1932.24743
SEQUENCE:3
DTSTAMP:20260420T192609Z
URL:https://business.middlesexchamber.com/events/details/score-webinar-leverage-linkedin-to-grow-your-business-24743
END:VEVENT

END:VCALENDAR
