BEGIN:VCALENDAR
VERSION:2.0
PRODID:-//ChamberMaster//Event Calendar 2.0//EN
METHOD:PUBLISH
X-PUBLISHED-TTL:P3D
REFRESH-INTERVAL:P3D
CALSCALE:GREGORIAN
BEGIN:VEVENT
DTSTART:20230111T170000Z
DTEND:20230111T183000Z
X-MICROSOFT-CDO-ALLDAYEVENT:FALSE
SUMMARY:SCORE Webinar: Is Being a Virtual Assistant for You?
DESCRIPTION:A virtual assistant provides administrative\, technical or creative assistance to a range of clients\, usually from home.\n\n\n\nIf you've been out of the work force and want to get back in or want a job with more flexibility and variety\, becoming a VA may be for you.\n\n\n\nIn this fast-paced\, 90-minute session\, long-time virtual assistant Belinda Sandor will discuss what's involved and the steps necessary to move into this growing field.
X-ALT-DESC;FMTTYPE=text/html:A virtual assistant provides administrative\, technical or creative assistance to a range of clients\, usually from home.<br />\n<br />\nIf you&rsquo\;ve been out of the work force and want to get back in or want a job with more flexibility and variety\, becoming a VA may be for you.<br />\n<br />\nIn this fast-paced\, 90-minute session\, long-time virtual assistant Belinda Sandor will discuss what&rsquo\;s involved and the steps necessary to move into this growing field.
LOCATION:Online via Zoom
UID:e.1932.24718
SEQUENCE:3
DTSTAMP:20260420T192908Z
URL:https://business.middlesexchamber.com/events/details/score-webinar-is-being-a-virtual-assistant-for-you-01-11-2023-24718
END:VEVENT

END:VCALENDAR
