BEGIN:VCALENDAR
VERSION:2.0
PRODID:-//ChamberMaster//Event Calendar 2.0//EN
METHOD:PUBLISH
X-PUBLISHED-TTL:P3D
REFRESH-INTERVAL:P3D
CALSCALE:GREGORIAN
BEGIN:VEVENT
DTSTART:20240125T223000Z
DTEND:20240126T000000Z
X-MICROSOFT-CDO-ALLDAYEVENT:FALSE
SUMMARY:SCORE Webinar: Finding Customers
DESCRIPTION:This webinar with SCORE Mentor Eric Munro looks at the steps in finding customers: first\, understanding your target market (the one where you will find the most interest and leads in your product or service)\; next\, learning the methods of marketing that are needed to both promote your business and pull in potential leads (including networking\, which may have the greatest potential for generating warm leads\, especially if your business offers services)\; and finally\, considering how to engage potential customers in effective ways to match your products or services to their needs.
X-ALT-DESC;FMTTYPE=text/html:<span style="font-size:18px\;"><span style="font-family:arial\;">This webinar with SCORE Mentor Eric Munro looks at the steps in finding customers: first\, understanding your target market (the one where you will find the most interest and leads in your product or service)\; next\, learning the methods of marketing that are needed to both promote your business and pull in potential leads (including networking\, which may have the greatest potential for generating warm leads\, especially if your business offers services)\; and finally\, considering how to engage potential customers in effective ways to match your products or services to their needs.</span></span>
LOCATION:Online via Zoom
UID:e.1932.28629
SEQUENCE:3
DTSTAMP:20260420T041153Z
URL:https://business.middlesexchamber.com/events/details/score-webinar-finding-customers-01-25-2024-28629
END:VEVENT

END:VCALENDAR
