BEGIN:VCALENDAR
VERSION:2.0
PRODID:-//ChamberMaster//Event Calendar 2.0//EN
METHOD:PUBLISH
X-PUBLISHED-TTL:P3D
REFRESH-INTERVAL:P3D
CALSCALE:GREGORIAN
BEGIN:VEVENT
DTSTART:20220203T150000Z
DTEND:20220203T163000Z
X-MICROSOFT-CDO-ALLDAYEVENT:FALSE
SUMMARY:SCORE Webinar: Developing Your Digital Marketing Playbook
DESCRIPTION:Promoting your business online has many opportunities but it can be overwhelming   social feeds\, digital ads\, email campaigns\, search optimization\, affiliate programs and more.\n\n\n\nSo where to begin? With Sarah Blecher\, a 20-year veteran of the NYC advertising agency scene\, you'll learn the common marketing plays you can do daily\, weekly\, and monthly to build customer relationships.\n\n\n\nSponsored by R.B. Kent & Son Inc.
X-ALT-DESC;FMTTYPE=text/html:Promoting your business online has many opportunities but it can be overwhelming &ndash\; social feeds\, digital ads\, email campaigns\, search optimization\, affiliate programs and more.<br />\n<br />\nSo where to begin? With Sarah Blecher\, a 20-year veteran of the NYC advertising agency scene\, you&rsquo\;ll learn the common marketing plays you can do daily\, weekly\, and monthly to build customer relationships.<br />\n<br />\nSponsored by R.B. Kent &amp\; Son Inc.
LOCATION:Online via Zoom
UID:e.1932.23531
SEQUENCE:3
DTSTAMP:20260423T094758Z
URL:https://business.middlesexchamber.com/events/details/score-webinar-developing-your-digital-marketing-playbook-23531
END:VEVENT

END:VCALENDAR
