BEGIN:VCALENDAR
VERSION:2.0
PRODID:-//ChamberMaster//Event Calendar 2.0//EN
METHOD:PUBLISH
X-PUBLISHED-TTL:P3D
REFRESH-INTERVAL:P3D
CALSCALE:GREGORIAN
BEGIN:VEVENT
DTSTART:20230124T223000Z
DTEND:20230125T000000Z
X-MICROSOFT-CDO-ALLDAYEVENT:FALSE
SUMMARY:SCORE Webinar: Demystifying the World of Email Marketing
DESCRIPTION:With email marketing revenue estimated to reach $11 billion by the end of 2023\, it's clear to see that email marketing works.\n\nIf you are a business owner leaving money on the table by neglecting this low-cost/high-return channel\, this interactive webinar with marketing technology expert Julie Accardo will give you a better understanding of foundational concepts and empower you to pursue this marketing channel.\n\nYou'll learn what types of email messages to send and how often\, how to find an email marketing platform that's right for you\, and more.
X-ALT-DESC;FMTTYPE=text/html:With email marketing revenue estimated to reach $11 billion by the end of 2023\, it&#39\;s clear to see that email marketing works.<br />\nIf you are a business owner leaving money on the table by neglecting this low-cost/high-return channel\, this interactive webinar with marketing technology expert Julie Accardo will give you a better understanding of foundational concepts and empower you to pursue this marketing channel.<br />\nYou&rsquo\;ll learn what types of email messages to send and how often\, how to find an email marketing platform that&rsquo\;s right for you\, and more.
LOCATION:Online via Zoom
UID:e.1932.24744
SEQUENCE:3
DTSTAMP:20260420T193111Z
URL:https://business.middlesexchamber.com/events/details/score-webinar-demystifying-the-world-of-email-marketing-24744
END:VEVENT

END:VCALENDAR
