BEGIN:VCALENDAR
VERSION:2.0
PRODID:-//ChamberMaster//Event Calendar 2.0//EN
METHOD:PUBLISH
X-PUBLISHED-TTL:P3D
REFRESH-INTERVAL:P3D
CALSCALE:GREGORIAN
BEGIN:VEVENT
DTSTART:20230209T150000Z
DTEND:20230209T163000Z
X-MICROSOFT-CDO-ALLDAYEVENT:FALSE
SUMMARY:SCORE Webinar: Choosing the Right QuickBooks - The Basics of Setting Up Your QuickBooks Company
DESCRIPTION:This webinar with Elizabeth Santaus provides a comparison between the features of QuickBooks Desktop vs QuickBooks Online.\n\n\n\nWe will set up a QuickBooks Desktop company from scratch\, reviewing the setup preferences and decisions along the way.\n\n\n\nIf time permits\, we will also view preferences for a QuickBooks Online company to help those users understand their options as well.\n\n\n\nAttendees are asked to have QuickBooks loaded on their computers.\n\n\n\nSponsored by Liberty Bank.
X-ALT-DESC;FMTTYPE=text/html:This webinar with Elizabeth Santaus provides a comparison between the features of QuickBooks Desktop vs QuickBooks Online.<br />\n<br />\nWe will set up a QuickBooks Desktop company from scratch\, reviewing the setup preferences and decisions along the way.<br />\n<br />\nIf time permits\, we will also view preferences for a QuickBooks Online company to help those users understand their options as well.<br />\n<br />\nAttendees are asked to have QuickBooks loaded on their computers.<br />\n<br />\nSponsored by Liberty Bank.
LOCATION:Online via Zoom
UID:e.1932.24764
SEQUENCE:3
DTSTAMP:20260420T182016Z
URL:https://business.middlesexchamber.com/events/details/score-webinar-choosing-the-right-quickbooks-the-basics-of-setting-up-your-quickbooks-company-02-09-2023-24764
END:VEVENT

END:VCALENDAR
