BEGIN:VCALENDAR
VERSION:2.0
PRODID:-//ChamberMaster//Event Calendar 2.0//EN
METHOD:PUBLISH
X-PUBLISHED-TTL:P3D
REFRESH-INTERVAL:P3D
CALSCALE:GREGORIAN
BEGIN:VEVENT
DTSTART:20220929T140000Z
DTEND:20220929T153000Z
X-MICROSOFT-CDO-ALLDAYEVENT:FALSE
SUMMARY:SCORE Webinar: Choosing the Right QuickBooks - The Basics of Setting Up Your QB Company
DESCRIPTION:This webinar with Elizabeth Santaus provides a comparison between the features of QuickBooks Desktop vs QuickBooks Online.\n\n\n\nWe will set up a QuickBooks Desktop company from scratch\, reviewing the setup preferences and decisions along the way.\n\n\n\nIf time permits\, we will also view preferences for a QuickBooks Online company to help those users understand their options as well.\n\n\n\nAttendees are asked to have QuickBooks loaded on their computers.
X-ALT-DESC;FMTTYPE=text/html:This webinar with Elizabeth Santaus provides a comparison between the features of QuickBooks Desktop vs QuickBooks Online.<br />\n<br />\nWe will set up a QuickBooks Desktop company from scratch\, reviewing the setup preferences and decisions along the way.<br />\n<br />\nIf time permits\, we will also view preferences for a QuickBooks Online company to help those users understand their options as well.<br />\n<br />\nAttendees are asked to have QuickBooks loaded on their computers.
LOCATION:Online via Zoom
UID:e.1932.23921
SEQUENCE:3
DTSTAMP:20260421T005416Z
URL:https://business.middlesexchamber.com/events/details/score-webinar-choosing-the-right-quickbooks-the-basics-of-setting-up-your-qb-company-23921
END:VEVENT

END:VCALENDAR
