BEGIN:VCALENDAR
VERSION:2.0
PRODID:-//ChamberMaster//Event Calendar 2.0//EN
METHOD:PUBLISH
X-PUBLISHED-TTL:P3D
REFRESH-INTERVAL:P3D
CALSCALE:GREGORIAN
BEGIN:VEVENT
DTSTART:20220419T160000Z
DTEND:20220419T173000Z
X-MICROSOFT-CDO-ALLDAYEVENT:FALSE
SUMMARY:SCORE Webinar: Business Fundamentals #5 - Show Me the Money
DESCRIPTION:In the concluding Session 5 of our free 5-session "Fundamentals for Starting Your Business" series\, we'll discuss start-up and operating costs and essential financial planning and tools.\n\n\n\nTopics include estimating variable costs\, accounting for overhead costs\, why a financial plan is important and how to use it.
X-ALT-DESC;FMTTYPE=text/html:In the concluding Session 5 of our free 5-session &quot\;Fundamentals for Starting Your Business&quot\; series\, we&rsquo\;ll discuss start-up and operating costs and essential financial planning and tools.<br />\n<br />\nTopics include estimating variable costs\, accounting for overhead costs\, why a financial plan is important and how to use it.
LOCATION:Online via Zoom
UID:e.1932.23591
SEQUENCE:3
DTSTAMP:20260423T083021Z
URL:https://business.middlesexchamber.com/events/details/score-webinar-business-fundamentals-5-show-me-the-money-04-19-2022-23591
END:VEVENT

END:VCALENDAR
