BEGIN:VCALENDAR
VERSION:2.0
PRODID:-//ChamberMaster//Event Calendar 2.0//EN
METHOD:PUBLISH
X-PUBLISHED-TTL:P3D
REFRESH-INTERVAL:P3D
CALSCALE:GREGORIAN
BEGIN:VEVENT
DTSTART:20220414T160000Z
DTEND:20220414T173000Z
X-MICROSOFT-CDO-ALLDAYEVENT:FALSE
SUMMARY:SCORE Webinar: Business Fundamentals #4 - Digital Marketing Must-Haves
DESCRIPTION:Session 4 of our free 5-session "Fundamentals for Starting Your Business" series covers the essential digital requirements to run a business.\n\n\n\nYou'll walk away understanding that you do not exist without a web presence\, but you don't need to have a full e-commerce enabled site.\n\n\n\nWe'll also discuss digital marketing techniques to help you get noticed by your target customers.\n\n\n\nAttend all 5 sessions (recommended) or any individually.
X-ALT-DESC;FMTTYPE=text/html:Session 4 of our free 5-session &quot\;Fundamentals for Starting Your Business&quot\; series covers the essential digital requirements to run a business.<br />\n<br />\nYou&rsquo\;ll walk away understanding that you do not exist without a web presence\, but you don&rsquo\;t need to have a full e-commerce enabled site.<br />\n<br />\nWe&#39\;ll also discuss digital marketing techniques to help you get noticed by your target customers.<br />\n<br />\nAttend all 5 sessions (recommended) or any individually.
LOCATION:Online via Zoom
UID:e.1932.23590
SEQUENCE:3
DTSTAMP:20260423T082949Z
URL:https://business.middlesexchamber.com/events/details/score-webinar-business-fundamentals-4-digital-marketing-must-haves-04-14-2022-23590
END:VEVENT

END:VCALENDAR
