BEGIN:VCALENDAR
VERSION:2.0
PRODID:-//ChamberMaster//Event Calendar 2.0//EN
METHOD:PUBLISH
X-PUBLISHED-TTL:P3D
REFRESH-INTERVAL:P3D
CALSCALE:GREGORIAN
BEGIN:VEVENT
DTSTART:20220412T160000Z
DTEND:20220412T173000Z
X-MICROSOFT-CDO-ALLDAYEVENT:FALSE
SUMMARY:SCORE Webinar: Business Fundamentals #3 - Marketing & Sales Basics
DESCRIPTION:Session 3 of our free 5-session "Fundamentals for Starting Your Business" series will help you understand what your Brand is\, how best to reach your target audience with the most compelling messages and how\, when and where to ask for the Sale - selling tactics\, greater comfort selling\, and the right selling process.\n\n\n\nAttend all 5 sessions (recommended) or any individually
X-ALT-DESC;FMTTYPE=text/html:Session 3 of our free 5-session &quot\;Fundamentals for Starting Your Business&quot\; series will help you understand what your Brand is\, how best to reach your target audience with the most compelling messages and how\, when and where to ask for the Sale - selling tactics\, greater comfort selling\, and the right selling process.<br />\n<br />\nAttend all 5 sessions (recommended) or any individually
LOCATION:Online via Zoom
UID:e.1932.23589
SEQUENCE:3
DTSTAMP:20260423T082849Z
URL:https://business.middlesexchamber.com/events/details/score-webinar-business-fundamentals-3-marketing-sales-basics-04-12-2022-23589
END:VEVENT

END:VCALENDAR
