BEGIN:VCALENDAR
VERSION:2.0
PRODID:-//ChamberMaster//Event Calendar 2.0//EN
METHOD:PUBLISH
X-PUBLISHED-TTL:P3D
REFRESH-INTERVAL:P3D
CALSCALE:GREGORIAN
BEGIN:VEVENT
DTSTART:20220405T160000Z
DTEND:20220405T173000Z
X-MICROSOFT-CDO-ALLDAYEVENT:FALSE
SUMMARY:SCORE Webinar: Business Fundamentals #1 - What's the Big Idea?
DESCRIPTION:In session 1 of the 5-session "Fundamentals for Starting Your Business" series\, you will review whether you have a good idea and explore the feasibility of your product or service idea and how it can become a viable business.\n\n\n\nDo you have access to the operational skills (yourself and others) to manage the business to success? Attend all 5 sessions (recommended) or any individually.
X-ALT-DESC;FMTTYPE=text/html:In session 1 of the 5-session &quot\;Fundamentals for Starting Your Business&quot\; series\, you will review whether you have a good idea and explore the feasibility of your product or service idea and how it can become a viable business.<br />\n<br />\nDo you have access to the operational skills (yourself and others) to manage the business to success? Attend all 5 sessions (recommended) or any individually.
LOCATION:Online via Zoom
UID:e.1932.23587
SEQUENCE:3
DTSTAMP:20260423T082809Z
URL:https://business.middlesexchamber.com/events/details/score-webinar-business-fundamentals-1-what-s-the-big-idea-04-05-2022-23587
END:VEVENT

END:VCALENDAR
