BEGIN:VCALENDAR
VERSION:2.0
PRODID:-//ChamberMaster//Event Calendar 2.0//EN
METHOD:PUBLISH
X-PUBLISHED-TTL:P3D
REFRESH-INTERVAL:P3D
CALSCALE:GREGORIAN
BEGIN:VEVENT
DTSTART:20250204T170000Z
DTEND:20250204T183000Z
X-MICROSOFT-CDO-ALLDAYEVENT:FALSE
SUMMARY:SCORE Webinar - Brand Lab: Build It\, Shape It\, Show It - Part 1
DESCRIPTION:This two-part series offers a unique opportunity to learn the essentials of building an impactful brand and then apply these essentials to the development of actual small business brands selected from the webinar attendees.\n\n\n\nIn Part 1\, Lyn Chamberlin will present the essentials of developing a small business brand. Attendees will have the exclusive opportunity to submit their brand for a real-time critique by Chamberlin\, who will choose three submissions to work through live in the second session.\n\n\n\nSeries supported by Guilford Savings Bank.
X-ALT-DESC;FMTTYPE=text/html:<span style="font-size:18px\;">This two-part series offers a unique opportunity to learn the essentials of building an impactful brand and then apply these essentials to the development of actual small business brands selected from the webinar attendees.<br />\n<br />\nIn Part 1\, Lyn Chamberlin will present the essentials of developing a small business brand. Attendees will have the exclusive opportunity to submit their brand for a real-time critique by Chamberlin\, who will choose three submissions to work through live in the second session.<br />\n<br />\nSeries supported by Guilford Savings Bank.</span>
LOCATION:Online via Zoom
UID:e.1932.30576
SEQUENCE:3
DTSTAMP:20260421T111037Z
URL:https://business.middlesexchamber.com/events/details/score-webinar-brand-lab-build-it-shape-it-show-it-part-1-30576
END:VEVENT

END:VCALENDAR
