BEGIN:VCALENDAR
VERSION:2.0
PRODID:-//ChamberMaster//Event Calendar 2.0//EN
METHOD:PUBLISH
X-PUBLISHED-TTL:P3D
REFRESH-INTERVAL:P3D
CALSCALE:GREGORIAN
BEGIN:VEVENT
DTSTART:20230504T140000Z
DTEND:20230504T153000Z
X-MICROSOFT-CDO-ALLDAYEVENT:FALSE
SUMMARY:SCORE Webinar: Beginner's Guide to Local SEO: 6 Steps to Improve Your Google Rankings
DESCRIPTION:It's a huge challenge for many companies to figure out how to rank high in Google's search results.  People often search in Google and contact the top listings in the search results. To build your business\, it's vital to make your way to the top of the local search rankings.\n\n\n\nIn this webinar\, strategic marketing professional Sarah Blecher will walk you through the process of optimizing your online presence to increase local traffic\, visibility\, and brand awareness for local customers.\n\n\n\nSponsored by The Rotary Club of Guilford\, CT.
X-ALT-DESC;FMTTYPE=text/html:It&rsquo\;s a huge challenge for many companies to figure out how to rank high in Google&rsquo\;s search results.&nbsp\; People often search in Google and contact the top listings in the search results. To build your business\, it&rsquo\;s vital to make your way to the top of the local search rankings.<br />\n<br />\nIn this webinar\, strategic marketing professional Sarah Blecher will walk you through the process of optimizing your online presence to increase local traffic\, visibility\, and brand awareness for local customers.<br />\n<br />\nSponsored by The Rotary Club of Guilford\, CT.
LOCATION:Online via Zoom
UID:e.1932.25286
SEQUENCE:3
DTSTAMP:20260420T153118Z
URL:https://business.middlesexchamber.com/events/details/score-webinar-beginner-s-guide-to-local-seo-6-steps-to-improve-your-google-rankings-25286
END:VEVENT

END:VCALENDAR
