BEGIN:VCALENDAR
VERSION:2.0
PRODID:-//ChamberMaster//Event Calendar 2.0//EN
METHOD:PUBLISH
X-PUBLISHED-TTL:P3D
REFRESH-INTERVAL:P3D
CALSCALE:GREGORIAN
BEGIN:VEVENT
DTSTART:20220330T140000Z
DTEND:20220330T153000Z
X-MICROSOFT-CDO-ALLDAYEVENT:FALSE
SUMMARY:SCORE Webinar: Advertising on and Measuring the Impact of Facebook and Instagram
DESCRIPTION:In this webinar with Brand Manager Meghan Crawford of Miranda Creative you will learn the value of advertising on social media\, current trends and how to use them to your advantage\, and how to measure for success.\n\n\n\nBefore diving in\, we will go through a quick review of social media basics.\n\n\n\nSponsored by Charter Oak Federal Credit Union.
X-ALT-DESC;FMTTYPE=text/html:In this webinar with Brand Manager Meghan Crawford of Miranda Creative you will learn the value of advertising on social media\, current trends and how to use them to your advantage\, and how to measure for success.<br />\n<br />\nBefore diving in\, we will go through a quick review of social media basics.<br />\n<br />\nSponsored by Charter Oak Federal Credit Union.
LOCATION:Online via Zoom
UID:e.1932.23582
SEQUENCE:3
DTSTAMP:20260423T095534Z
URL:https://business.middlesexchamber.com/events/details/score-webinar-advertising-on-and-measuring-the-impact-of-facebook-and-instagram-23582
END:VEVENT

END:VCALENDAR
