BEGIN:VCALENDAR
VERSION:2.0
PRODID:-//ChamberMaster//Event Calendar 2.0//EN
METHOD:PUBLISH
X-PUBLISHED-TTL:P3D
REFRESH-INTERVAL:P3D
CALSCALE:GREGORIAN
BEGIN:VEVENT
DTSTART:20200822T143000Z
DTEND:20200822T160000Z
X-MICROSOFT-CDO-ALLDAYEVENT:FALSE
SUMMARY:Saturday Morning with Annaita Gandhy
DESCRIPTION:?As our world moves into a higher frequency\, the 5th Dimension\, our series of ongoing workshops offer guidance in understanding events and making the required shifts within ourselves. These are wonderful times and opportunities to create a beautiful new world on a higher level\, one of love\, truth and integrity\, serving ALL.?\n\nAbout Annaita\n\nAnnaita Gandhy is an intuitive Spiritual Guide & Healer\, who shares her experience and wisdom to bring awareness of the Light within each. Committed to the Light\, she is here to lift humanity to a higher level of consciousness and serves through her many spiritual workshops\, meditations\, teaching and personal healing sessions\, drawing on her extensive training and experience during her life in India. She lives in Middletown\, CT and is accessible to all those who desire to heal and claim their Divinity.\n\nMeeting Information\n\nThis Zoom workshop is by invite only.\n\nEmail The Buttonwood Tree for invitation details at: thebuttonwoodtree@gmail.com\n\nor\n\nMessage The Buttonwood Tree on Facebook\n\nVisit https://alignwithsource.blogspot.com/ to email Annaita with your donation details before 9:30am of event date for an invitation. Note: requests arriving later will not be processed. Thank you for your understanding.
X-ALT-DESC;FMTTYPE=text/html:<p style="text-align:start">?As our world moves into a higher frequency\, the 5th Dimension\, our series of ongoing workshops offer guidance in understanding events and making the required shifts within ourselves. These are wonderful times and opportunities to create a beautiful new world on a higher level\, one of love\, truth and integrity\, serving ALL.?</p>\n\n<h3 style="color:rgb(85\, 85\, 85)\; font-style:normal\; text-align:start">About Annaita</h3>\n\n<p style="text-align:start">Annaita Gandhy is an intuitive Spiritual Guide &amp\; Healer\, who shares her experience and wisdom to bring awareness of the Light within each. Committed to the Light\, she is here to lift humanity to a higher level of consciousness and serves through her many spiritual workshops\, meditations\, teaching and personal healing sessions\, drawing on her extensive training and experience during her life in India. She lives in Middletown\, CT and is accessible to all those who desire to heal and claim their Divinity.</p>\n\n<h3 style="color:rgb(85\, 85\, 85)\; font-style:normal\; text-align:start"><strong>Meeting Information</strong></h3>\n\n<p style="text-align:start">This Zoom workshop is by invite only.</p>\n\n<p style="text-align:start"><span style="font-family:inherit\; font-size:15px">Email The Buttonwood Tree for invitation details at:&nbsp\;thebuttonwoodtree@gmail.com</span></p>\n\n<p style="text-align:start"><span style="font-family:inherit\; font-size:15px">or</span></p>\n\n<p style="text-align:start"><span style="font-family:inherit\; font-size:15px">Message&nbsp\;<a href="https://www.facebook.com/buttonwoodtree" rel="noopener noreferrer" style="box-sizing: border-box\; border: 0px\; font-family: inherit\; font-size: 15px\; font-style: inherit\; font-weight: inherit\; margin: 0px\; outline: 0px\; padding: 0px\; vertical-align: baseline\; color: rgb(35\, 163\, 143)\; text-decoration: none\; transition: all 0.3s ease-in-out\;" target="_blank">The Buttonwood Tree</a><a href="https://www.facebook.com/buttonwoodtree/">&nbsp\;</a>on Facebook</span></p>\n\n<p style="text-align:start"><span style="font-family:inherit\; font-size:15px">Visit&nbsp\;<a href="https://alignwithsource.blogspot.com/" rel="noopener noreferrer" style="box-sizing: border-box\; border: 0px\; font-family: inherit\; font-size: 15px\; font-style: inherit\; font-weight: inherit\; margin: 0px\; outline: 0px\; padding: 0px\; vertical-align: baseline\; color: rgb(35\, 163\, 143)\; text-decoration: none\; transition: all 0.3s ease-in-out\;" target="_blank">https://alignwithsource.blogspot.com/</a>&nbsp\;to email Annaita with your donation details before 9:30am of event date for an invitation.&nbsp\;<em><span style="font-family:inherit\; font-size:small">Note: requests arriving later will not be processed. Thank you for your understanding.</span></em></span></p>\n
LOCATION:Online with Zoom
UID:e.1932.18793
SEQUENCE:3
DTSTAMP:20260426T000430Z
URL:https://business.middlesexchamber.com/events/details/saturday-morning-with-annaita-gandhy-08-22-2020-18793
END:VEVENT

END:VCALENDAR
