BEGIN:VCALENDAR
VERSION:2.0
PRODID:-//ChamberMaster//Event Calendar 2.0//EN
METHOD:PUBLISH
X-PUBLISHED-TTL:P3D
REFRESH-INTERVAL:P3D
CALSCALE:GREGORIAN
BEGIN:VEVENT
DTSTART:20220717T000000Z
DTEND:20220717T020000Z
X-MICROSOFT-CDO-ALLDAYEVENT:FALSE
SUMMARY:Rosemary Minkler - Accomplished Pianist\, Composer & Audio Engineer
DESCRIPTION:Born and raised in Waterbury\, CT\, Rosemary Minkler is an accomplished pianist\, composer\, and audio engineer. She grew up surrounded by music and began studying piano at an early age\, discovering her passion for jazz at the Litchfield Jazz Camp.\n\n\n\nShe continued her studies on a full scholarship to Western Connecticut State University\, where she received a degree in Audio and Music Production with a concentration in Jazz Piano. Here\, she worked closely with renowned jazz saxophonist Jimmy Greene and was an intern for Stamford-based audio engineer Greg Tobler\, whom she still works with.\n\n\n\nRosemary's diverse abilities make her an in-demand musician and audio engineer. She currently lives in Stamford\, CT\, working as a freelance audio engineer\, teaching keyboard & music production at the Electronic Music Collective\, and often collaborating with other musicians.
X-ALT-DESC;FMTTYPE=text/html:Born and raised in Waterbury\, CT\, Rosemary Minkler is an accomplished pianist\, composer\, and audio engineer. She grew up surrounded by music and began studying piano at an early age\, discovering her passion for jazz at the Litchfield Jazz Camp.<br />\n<br />\nShe continued her studies on a full scholarship to Western Connecticut State University\, where she received a degree in Audio and Music Production with a concentration in Jazz Piano. Here\, she worked closely with renowned jazz saxophonist Jimmy Greene and was an intern for Stamford-based audio engineer Greg Tobler\, whom she still works with.<br />\n<br />\nRosemary&rsquo\;s diverse abilities make her an in-demand musician and audio engineer. She currently lives in Stamford\, CT\, working as a freelance audio engineer\, teaching keyboard &amp\; music production at the Electronic Music Collective\, and often collaborating with other musicians.
LOCATION:The Buttonwood Tree Performing Arts Center 605 Main Street Middletown\, CT
UID:e.1932.23843
SEQUENCE:3
DTSTAMP:20260421T033302Z
URL:https://business.middlesexchamber.com/events/details/rosemary-minkler-accomplished-pianist-composer-audio-engineer-23843
END:VEVENT

END:VCALENDAR
