BEGIN:VCALENDAR
VERSION:2.0
PRODID:-//ChamberMaster//Event Calendar 2.0//EN
METHOD:PUBLISH
X-PUBLISHED-TTL:P3D
REFRESH-INTERVAL:P3D
CALSCALE:GREGORIAN
BEGIN:VEVENT
DTSTART:20240706T180000Z
DTEND:20240706T200000Z
X-MICROSOFT-CDO-ALLDAYEVENT:FALSE
SUMMARY:"rOng" at Oddfellows Playhouse
DESCRIPTION:On July 6 Janoah and musician Kafari will perform "rOng"\, a radically-interactive community circus show which explores rings in all their forms\, presented in the round and modeling the circle process used in restorative justice. "rOng" will be performed in the theater at Oddfellows Playhouse and will be followed by an audience talk back with Restorative Justice Trainer and Middletown Youth Services Director Justin Carbonella. \n\n\n\nThe performance\, which is open to the public\, will take place on Saturday\, July 6th at 2pm in the theater at Oddfellows Playhouse. \n\n\n\nJanoah is excited for the community to engage with zer upcoming performance\, ze states\, "This show is applicable for all age groups. It's great for kids but there is so much material for adults as well. It is radically interactive which means you can be a part of the inner circle that is incredibly involved. However\, you can also step back and be less engaged in the production. The circle shape itself has many meanings\, hence the name 'rOng'. It represents a way of building community\, and in conversation form it allows people to listen as well as become more understanding of each other."\n\n\n\n"rOng" is funded in part by the New England States Touring program of the New England Foundation for the Arts\, made possible with funding from the National Endowment for the Arts Regional Touring Program and the six New England state arts agencies. Additional support is provided by the City of Middletown and the Middletown Commission on the Arts.
X-ALT-DESC;FMTTYPE=text/html:<span style="font-size:16px"><span style="font-family:times new roman"><span style="background-color:transparent\; color:rgb(0\, 0\, 0)">On July 6 Janoah and musician Kafari will perform &ldquo\;rOng&rdquo\;\, a radically-interactive community circus show which explores rings in all their forms\, presented in the round and modeling the circle process used in restorative justice. &ldquo\;rOng&rdquo\; will be performed in the theater at Oddfellows Playhouse and will be followed by an audience talk back with Restorative Justice Trainer and Middletown Youth Services Director Justin Carbonella.&nbsp\;</span><br />\n<br />\n<span style="background-color:transparent\; color:rgb(0\, 0\, 0)">The performance\, which is open to the public\, will take place on Saturday\, July 6th at 2pm in the theater at Oddfellows Playhouse.&nbsp\;</span><br />\n<br />\n<span style="background-color:transparent\; color:rgb(0\, 0\, 0)">Janoah is excited for the community to engage with zer upcoming performance\, ze states\, &ldquo\;This show is applicable for all age groups. It&rsquo\;s great for kids but there is so much material for adults as well. It is radically interactive which means you can be a part of the inner circle that is incredibly involved. However\, you can also step back and be less engaged in the production. The circle shape itself has many meanings\, hence the name &lsquo\;rOng&rsquo\;. It represents a way of building community\, and in conversation form it allows people to listen as well as become more understanding of each other.&rdquo\;</span><br />\n<br />\n<span style="background-color:transparent\; color:rgb(0\, 0\, 0)">&ldquo\;rOng&rdquo\; is funded in part by the New England States Touring program of the New England Foundation for the Arts\, made possible with funding from the National Endowment for the Arts Regional Touring Program and the six New England state arts agencies. Additional support is provided by the City of Middletown and the Middletown Commission on the Arts.</span></span></span>
LOCATION:Oddfellows Playhouse 128 Washington Street Middletown\, CT 06457
UID:e.1932.29482
SEQUENCE:3
DTSTAMP:20260419T190536Z
URL:https://business.middlesexchamber.com/events/details/rong-at-oddfellows-playhouse-29482
END:VEVENT

END:VCALENDAR
