BEGIN:VCALENDAR
VERSION:2.0
PRODID:-//ChamberMaster//Event Calendar 2.0//EN
METHOD:PUBLISH
X-PUBLISHED-TTL:P3D
REFRESH-INTERVAL:P3D
CALSCALE:GREGORIAN
BEGIN:VEVENT
DTSTART:20251119T220000Z
DTEND:20251120T000000Z
X-MICROSOFT-CDO-ALLDAYEVENT:FALSE
SUMMARY:Rocky Hill Division After Dark
DESCRIPTION:In November\, we're trading the coffee and bagels for cocktails and hors d'oeuvres...\n\n\n\nJoin us Wednesday\, November 19th from 5:00pm to 7:00pm at Salute to mix n' mingle\, meet and greet at our Rocky Hill Division After Dark event!\n\n\n\nGuests will be treated to their first beer or wine on the house followed by a cash bar. Salute will have some delicious hot appetizers as well. \n\n \n\nAll of the Chamber Division meetings in November are "Going Dark" - chamber members are welcome to attend other Division After Dark events for the chance to meet and network with fellow members and guests.
X-ALT-DESC;FMTTYPE=text/html:In November\, we&#39\;re trading the coffee and bagels for cocktails and hors d&#39\;oeuvres...<br />\n<br />\nJoin us Wednesday\, November 19th from 5:00pm to 7:00pm at Salute to mix n&#39\; mingle\, meet and greet at our Rocky Hill Division After Dark event!<br />\n<br />\nGuests will be treated to their first beer or wine on the house followed by a cash bar. Salute will have some delicious hot appetizers as well.&nbsp\;<br />\n&nbsp\;<br />\nAll of the Chamber Division meetings in November are &quot\;Going Dark&quot\; - chamber members are welcome to attend other Division After Dark events for the chance to meet and network with fellow members and guests.
LOCATION:Salute 377 Cromwell Ave Rocky Hill\, CT
UID:e.1932.30345
SEQUENCE:3
DTSTAMP:20260424T214839Z
URL:https://business.middlesexchamber.com/events/details/rocky-hill-division-after-dark-11-19-2025-30345
END:VEVENT

END:VCALENDAR
