BEGIN:VCALENDAR
VERSION:2.0
PRODID:-//ChamberMaster//Event Calendar 2.0//EN
METHOD:PUBLISH
X-PUBLISHED-TTL:P3D
REFRESH-INTERVAL:P3D
CALSCALE:GREGORIAN
BEGIN:VEVENT
DTSTART:20251216T130000Z
DTEND:20251216T140000Z
X-MICROSOFT-CDO-ALLDAYEVENT:FALSE
SUMMARY:Rocky Hill Division
DESCRIPTION:The Chamber has nine geographically based divisions which meet on a monthly basis throughout Middlesex County. These divisions focus on local economic development issues and each meeting features an update from local municipal officials.\n\n\n\nTwice a year\, in November and March\, our monthly morning division meetings are held during the evening and feature appetizers and networking\, with the goal of creating new connections.\n\n\n\nThis month's meeting will be hosted by Independent Electrical Contractors of New England located at 273 Dividend Road\, Suite A\, Rocky Hill\, CT. The Chamber would like to thank Allie French and the entire staff at IEC New England for hosting. \n\n\n\nLooking to host you own meeting and need a great space. IEC New England has 7 rooms to choose from ranging from 15 to 50 seat configurations. The furniture is modular so the room can be set based on your companies needs. Rental is by the hour\, half day or full day. All spaces include wireless internet\, LCD smart screen\, white board and PLENTY of parking. Click HERE for more details. \n\n\n\nAgenda\n\n \n\nI. Welcome and Introductions\n\n	Introductions from the division chair/s\n	Round Robin introduction from members attending \n\nII. Remarks\n\n\n	Host remarks and information\n	Town updates from department heads attending\n	Speaker remarks and information\n\nIII. Closing Remarks and Chamber Updates\n\n\n	Chamber updates from Chamber representative attending
X-ALT-DESC;FMTTYPE=text/html:The Chamber has nine geographically based divisions which meet on a monthly basis throughout Middlesex County. These divisions focus on local economic development issues and each meeting features an update from local municipal officials.<br />\n<br />\nTwice a year\, in November and March\, our monthly morning division meetings are held during the evening and feature appetizers and networking\, with the goal of creating new connections.<br />\n<br />\nThis month&#39\;s meeting will be hosted by&nbsp\;<strong><a href="https://www.iecne.org/">Independent Electrical Contractors of New England</a></strong>&nbsp\;located at 273 Dividend Road\, Suite A\, Rocky Hill\, CT. The Chamber would like to thank Allie French and the entire staff at IEC New England for hosting.&nbsp\;<br />\n<br />\nLooking to host you own meeting and need a great space. IEC New England has 7 rooms to choose from ranging from 15 to 50 seat configurations. The furniture is modular so the room can be set based on your companies needs. Rental is by the hour\, half day or full day. All spaces include wireless internet\, LCD smart screen\, white board and PLENTY of parking. Click&nbsp\;<strong><a href="https://www.iecne.org/facility-rentals/">HERE</a></strong>&nbsp\;for more details.&nbsp\;<br />\n<br />\n<strong>Agenda</strong><br />\n&nbsp\;<br />\n<strong>I. Welcome and Introductions</strong>\n<ul>\n	<li>Introductions from the division chair/s</li>\n	<li>Round Robin introduction from members attending&nbsp\;</li>\n</ul>\n<strong>II. Remarks</strong>\n\n<ul>\n	<li>Host remarks and information</li>\n	<li>Town updates from department heads attending</li>\n	<li>Speaker remarks and information</li>\n</ul>\n<strong>III. Closing Remarks and Chamber Updates</strong>\n\n<ul>\n	<li>Chamber updates from Chamber representative attending</li>\n</ul>\n
LOCATION:Independent Electrical Contractors 273 Dividend Road Suite A Rocky Hill\, CT
UID:e.1932.30346
SEQUENCE:3
DTSTAMP:20260424T192050Z
URL:https://business.middlesexchamber.com/events/details/rocky-hill-division-12-17-2025-30346
END:VEVENT

END:VCALENDAR
