BEGIN:VCALENDAR
VERSION:2.0
PRODID:-//ChamberMaster//Event Calendar 2.0//EN
METHOD:PUBLISH
X-PUBLISHED-TTL:P3D
REFRESH-INTERVAL:P3D
CALSCALE:GREGORIAN
BEGIN:VEVENT
DTSTART:20230419T120000Z
DTEND:20230419T130000Z
X-MICROSOFT-CDO-ALLDAYEVENT:FALSE
SUMMARY:Rocky Hill Division
DESCRIPTION:AGENDA\n\n \n\nI. Welcome and Introductions\n\na. Introductions from the division chair/s\n\n \n\nII. Discussions\n\na. Host Introductions and remarks\n\nb. Town updates from department heads attending\n\n \n\nIII. Closing Remarks and Chamber Updates\n\na. Chamber updates from Chamber representative/s attending
X-ALT-DESC;FMTTYPE=text/html:<div><u><strong>AGENDA</strong></u><br />\n&nbsp\;</div>\n\n<div><strong>I.<span style="white-space: pre\;"> </span>Welcome and Introductions</strong></div>\n\n<div>a. Introductions from the division chair/s</div>\n\n<div>&nbsp\;</div>\n\n<div><strong>II.<span style="white-space: pre\;"> </span>Discussions</strong></div>\n\n<div>a. Host Introductions and remarks<br />\nb. Town updates from department heads attending</div>\n\n<div>&nbsp\;</div>\n\n<div><strong>III.<span style="white-space: pre\;"> </span>Closing Remarks and Chamber Updates</strong></div>\n\n<div>a. Chamber updates from Chamber representative/s attending</div>\n
LOCATION:CarePartners of Connecticut 55 Capital Blvd Rocky Hill\, Ct\, 06067
UID:e.1932.24261
SEQUENCE:3
DTSTAMP:20260420T181735Z
URL:https://business.middlesexchamber.com/events/details/rocky-hill-division-04-19-2023-24261
END:VEVENT

END:VCALENDAR
