BEGIN:VCALENDAR
VERSION:2.0
PRODID:-//ChamberMaster//Event Calendar 2.0//EN
METHOD:PUBLISH
X-PUBLISHED-TTL:P3D
REFRESH-INTERVAL:P3D
CALSCALE:GREGORIAN
BEGIN:VEVENT
DTSTART:20231209T160000Z
DTEND:20231209T170000Z
X-MICROSOFT-CDO-ALLDAYEVENT:FALSE
SUMMARY:River Tales: "Over and Under the Snow'
DESCRIPTION:While you're enjoying the chilly winter weather\, swing by the Connecticut River Museum for a fun and educational kids' program. A program just for kids 4+ and their caregivers\, River Tales includes a story\, a craft activity\, and an opportunity to explore the Connecticut River Museum's exhibits through a scavenger hunt.\n\n\n\nIn December\, we'll read Over and Under the Snow by Kate Messner\, a book that explores a secret kingdom of squirrels\, snow hares and many other animals that live through the winter safe and warm\, awake and busy\, under the snow.\n\n\n\nAll River Tales reservations include museum admission for one adult and one child and must be purchased in advance. Children MUST be accompanied by a parent/guardian during this event.\n\n\n\nQuestions? Email astromberger@ctrivermuseum.org.
X-ALT-DESC;FMTTYPE=text/html:<span style="font-size:18px\;"><span style="font-family:arial\;">While you&rsquo\;re enjoying the chilly winter weather\, swing by the Connecticut River Museum for a fun and educational kids&rsquo\; program. A program just for kids 4+ and their caregivers\, River Tales includes a story\, a craft activity\, and an opportunity to explore the Connecticut River Museum&rsquo\;s exhibits through a scavenger hunt.<br />\n<br />\nIn December\, we&rsquo\;ll read Over and Under the Snow by Kate Messner\, a book that explores a secret kingdom of squirrels\, snow hares and many other animals that live through the winter safe and warm\, awake and busy\, under the snow.<br />\n<br />\nAll River Tales reservations include museum admission for one adult and one child and must be purchased in advance. Children <strong>MUST</strong> be accompanied by a parent/guardian during this event.<br />\n<br />\nQuestions? Email astromberger@ctrivermuseum.org.</span></span>
LOCATION:Connecticut River Museum 67 Main Street Essex\, CT 06426
UID:e.1932.28496
SEQUENCE:3
DTSTAMP:20260420T054436Z
URL:https://business.middlesexchamber.com/events/details/river-tales-over-and-under-the-snow-28496
END:VEVENT

END:VCALENDAR
