BEGIN:VCALENDAR
VERSION:2.0
PRODID:-//ChamberMaster//Event Calendar 2.0//EN
METHOD:PUBLISH
X-PUBLISHED-TTL:P3D
REFRESH-INTERVAL:P3D
CALSCALE:GREGORIAN
BEGIN:VEVENT
DTSTART:20220702T140000Z
DTEND:20220702T180000Z
X-MICROSOFT-CDO-ALLDAYEVENT:FALSE
SUMMARY:Return to the Riverbend - Riverfront Master Plan Reveal
DESCRIPTION:Riverfront Master Plan Reveal EMAIL US AT: riverbend@middletownct.gov\n\n\n\nPresentation - 10:00am at City Hall Council Chambers\, 245 deKoven Drive See the project presentation. All are welcome! If you can't attend in person\, watch the live stream at: https://www.middletownct.gov/755/Granicus\n\n\n\nTrolley Tour of the Site Departing at 12:00pm following the presentation Meet at Harbor Park\, near the former Canoe Club. Discover the project through a guided tour. To attend\, please register at: https://bit.ly/3LZpPv
X-ALT-DESC;FMTTYPE=text/html:Riverfront Master Plan Reveal EMAIL US AT: riverbend@middletownct.gov<br />\n<br />\nPresentation - 10:00am at City Hall Council Chambers\, 245 deKoven Drive See the project presentation. All are welcome! If you can&rsquo\;t attend in person\, watch the live stream at: https://www.middletownct.gov/755/Granicus<br />\n<br />\nTrolley Tour of the Site Departing at 12:00pm following the presentation Meet at Harbor Park\, near the former Canoe Club. Discover the project through a guided tour. To attend\, please register at: https://bit.ly/3LZpPv
LOCATION:Middletown City Hall Council Chambers 245 Dekoven Drive Middletown\, CT
UID:e.1932.23730
SEQUENCE:3
DTSTAMP:20260421T033023Z
URL:https://business.middlesexchamber.com/events/details/return-to-the-riverbend-riverfront-master-plan-reveal-23730
END:VEVENT

END:VCALENDAR
